BEGIN:VCALENDAR
VERSION:2.0
PRODID:-//Quincy Stake Youth - ECPv6.15.20//NONSGML v1.0//EN
CALSCALE:GREGORIAN
METHOD:PUBLISH
X-WR-CALNAME:Quincy Stake Youth
X-ORIGINAL-URL:https://www.quincystakeyouth.com
X-WR-CALDESC:Events for Quincy Stake Youth
REFRESH-INTERVAL;VALUE=DURATION:PT1H
X-Robots-Tag:noindex
X-PUBLISHED-TTL:PT1H
BEGIN:VTIMEZONE
TZID:America/Los_Angeles
BEGIN:DAYLIGHT
TZOFFSETFROM:-0800
TZOFFSETTO:-0700
TZNAME:PDT
DTSTART:20240310T100000
END:DAYLIGHT
BEGIN:STANDARD
TZOFFSETFROM:-0700
TZOFFSETTO:-0800
TZNAME:PST
DTSTART:20241103T090000
END:STANDARD
BEGIN:DAYLIGHT
TZOFFSETFROM:-0800
TZOFFSETTO:-0700
TZNAME:PDT
DTSTART:20250309T100000
END:DAYLIGHT
BEGIN:STANDARD
TZOFFSETFROM:-0700
TZOFFSETTO:-0800
TZNAME:PST
DTSTART:20251102T090000
END:STANDARD
BEGIN:DAYLIGHT
TZOFFSETFROM:-0800
TZOFFSETTO:-0700
TZNAME:PDT
DTSTART:20260308T100000
END:DAYLIGHT
BEGIN:STANDARD
TZOFFSETFROM:-0700
TZOFFSETTO:-0800
TZNAME:PST
DTSTART:20261101T090000
END:STANDARD
END:VTIMEZONE
BEGIN:VEVENT
DTSTART;VALUE=DATE:20250804
DTEND;VALUE=DATE:20250808
DTSTAMP:20260423T213530
CREATED:20250103T234952Z
LAST-MODIFIED:20260116T203502Z
UID:10000089-1754265600-1754611199@www.quincystakeyouth.com
SUMMARY:Young Women's Camp
DESCRIPTION:Young Women’s Camp is for all Young Women turning 12 – 18 in 2025. Camp will be held at Buck’s Lake Camp Liahona. \nScroll down for drop-off & pickup times\, packing list & directions to camp! \n  \n 
URL:https://www.quincystakeyouth.com/event/young-womens-camp-old/
LOCATION:Buck’s Lake Camp Liahona
CATEGORIES:Stake Young Women
ATTACH;FMTTYPE=image/png:https://www.quincystakeyouth.com/wp-content/uploads/2023/01/Artboard-1-copy-4event-headers.png
END:VEVENT
BEGIN:VEVENT
DTSTART;VALUE=DATE:20250807
DTEND;VALUE=DATE:20250810
DTSTAMP:20260423T213530
CREATED:20240104T235712Z
LAST-MODIFIED:20260116T230058Z
UID:10000053-1754524800-1754783999@www.quincystakeyouth.com
SUMMARY:Young Men AP Camp
DESCRIPTION:Stake Aaronic Priesthood Camp will be held this summer! All young men turning 12-18 in 2025 are invited to attend. AP Camp will be held at  Buck’s Lake Camp Liahona. \nRegistration is now closed!\nContact Devin Duerksen if you would still like to attend. \nScroll down to find information about drop-off\, pickup\, directions and packing lists! \n  \n 
URL:https://www.quincystakeyouth.com/event/ap-camp1/
LOCATION:Bucks Lake Campground
CATEGORIES:Stake Young Men
ATTACH;FMTTYPE=image/png:https://www.quincystakeyouth.com/wp-content/uploads/2023/01/Artboard-1-copy-2event-headers.png
END:VEVENT
END:VCALENDAR