BEGIN:VCALENDAR
VERSION:2.0
PRODID:-//Quincy Stake Youth - ECPv6.15.20//NONSGML v1.0//EN
CALSCALE:GREGORIAN
METHOD:PUBLISH
X-WR-CALNAME:Quincy Stake Youth
X-ORIGINAL-URL:https://www.quincystakeyouth.com
X-WR-CALDESC:Events for Quincy Stake Youth
REFRESH-INTERVAL;VALUE=DURATION:PT1H
X-Robots-Tag:noindex
X-PUBLISHED-TTL:PT1H
BEGIN:VTIMEZONE
TZID:America/Los_Angeles
BEGIN:DAYLIGHT
TZOFFSETFROM:-0800
TZOFFSETTO:-0700
TZNAME:PDT
DTSTART:20250309T100000
END:DAYLIGHT
BEGIN:STANDARD
TZOFFSETFROM:-0700
TZOFFSETTO:-0800
TZNAME:PST
DTSTART:20251102T090000
END:STANDARD
BEGIN:DAYLIGHT
TZOFFSETFROM:-0800
TZOFFSETTO:-0700
TZNAME:PDT
DTSTART:20260308T100000
END:DAYLIGHT
BEGIN:STANDARD
TZOFFSETFROM:-0700
TZOFFSETTO:-0800
TZNAME:PST
DTSTART:20261101T090000
END:STANDARD
BEGIN:DAYLIGHT
TZOFFSETFROM:-0800
TZOFFSETTO:-0700
TZNAME:PDT
DTSTART:20270314T100000
END:DAYLIGHT
BEGIN:STANDARD
TZOFFSETFROM:-0700
TZOFFSETTO:-0800
TZNAME:PST
DTSTART:20271107T090000
END:STANDARD
END:VTIMEZONE
BEGIN:VEVENT
DTSTART;VALUE=DATE:20260115
DTEND;VALUE=DATE:20260129
DTSTAMP:20260423T150946
CREATED:20260107T002709Z
LAST-MODIFIED:20260107T005439Z
UID:10000101-1768435200-1769644799@www.quincystakeyouth.com
SUMMARY:FSY Pre-Registration
DESCRIPTION:All youth turning 14 -18 in 2026 are invited to attend our Stake session of FSY this year! It will be June 22nd – 27th at Sonoma State University in Rohnert Park. We hope and encourage everyone who is eligible to make this a priority in their schedules and help the youth register to go. This fun testimony building experience is not something any youth should miss! Youth must sign into their own personal church account to register.\nGo to FSY Registration >> \nIf you pre-registered\, you need to finalize your registration within this window or you will be starting the process over in February. If you missed pre-registration… no need to worry. On-cycle Registration will open February 12th and you will still get a chance to register. (Pre-Registration helps the church plan transportation for our stake)
URL:https://www.quincystakeyouth.com/event/fsy-pre-registration/
CATEGORIES:FSY
ATTACH;FMTTYPE=image/png:https://www.quincystakeyouth.com/wp-content/uploads/2026/01/Artboard-2fsy.png
END:VEVENT
END:VCALENDAR