BEGIN:VCALENDAR
VERSION:2.0
PRODID:-//Quincy Stake Youth - ECPv6.15.20//NONSGML v1.0//EN
CALSCALE:GREGORIAN
METHOD:PUBLISH
X-WR-CALNAME:Quincy Stake Youth
X-ORIGINAL-URL:https://www.quincystakeyouth.com
X-WR-CALDESC:Events for Quincy Stake Youth
REFRESH-INTERVAL;VALUE=DURATION:PT1H
X-Robots-Tag:noindex
X-PUBLISHED-TTL:PT1H
BEGIN:VTIMEZONE
TZID:America/Los_Angeles
BEGIN:DAYLIGHT
TZOFFSETFROM:-0800
TZOFFSETTO:-0700
TZNAME:PDT
DTSTART:20230312T100000
END:DAYLIGHT
BEGIN:STANDARD
TZOFFSETFROM:-0700
TZOFFSETTO:-0800
TZNAME:PST
DTSTART:20231105T090000
END:STANDARD
BEGIN:DAYLIGHT
TZOFFSETFROM:-0800
TZOFFSETTO:-0700
TZNAME:PDT
DTSTART:20240310T100000
END:DAYLIGHT
BEGIN:STANDARD
TZOFFSETFROM:-0700
TZOFFSETTO:-0800
TZNAME:PST
DTSTART:20241103T090000
END:STANDARD
BEGIN:DAYLIGHT
TZOFFSETFROM:-0800
TZOFFSETTO:-0700
TZNAME:PDT
DTSTART:20250309T100000
END:DAYLIGHT
BEGIN:STANDARD
TZOFFSETFROM:-0700
TZOFFSETTO:-0800
TZNAME:PST
DTSTART:20251102T090000
END:STANDARD
BEGIN:DAYLIGHT
TZOFFSETFROM:-0800
TZOFFSETTO:-0700
TZNAME:PDT
DTSTART:20260308T100000
END:DAYLIGHT
BEGIN:STANDARD
TZOFFSETFROM:-0700
TZOFFSETTO:-0800
TZNAME:PST
DTSTART:20261101T090000
END:STANDARD
BEGIN:DAYLIGHT
TZOFFSETFROM:-0800
TZOFFSETTO:-0700
TZNAME:PDT
DTSTART:20270314T100000
END:DAYLIGHT
BEGIN:STANDARD
TZOFFSETFROM:-0700
TZOFFSETTO:-0800
TZNAME:PST
DTSTART:20271107T090000
END:STANDARD
END:VTIMEZONE
BEGIN:VEVENT
DTSTART;TZID=America/Los_Angeles:20260419T170000
DTEND;TZID=America/Los_Angeles:20260419T190000
DTSTAMP:20260423T085700
CREATED:20260117T021456Z
LAST-MODIFIED:20260406T034530Z
UID:10000111-1776618000-1776625200@www.quincystakeyouth.com
SUMMARY:"The Chosen" Teen Movie Night (Date Changed from 12th to 19th)
DESCRIPTION:Season 4 – Episode 2 Join us for an incredible experience at ‘The Chosen’ Teen Movie Night\, a free community youth event! Immerse yourself in the captivating story of Jesus Christ and embrace the power of faith. This is not just a movie night\, but a chance to connect with other youth in our community and strengthen your spiritual journey together throughout the year. Don’t miss out on the opportunity to be part of this interfaith event. Bring your friends and let’s make 2026 one to be remembered.
URL:https://www.quincystakeyouth.com/event/the-chosen-teen-movie-night-22/
LOCATION:The Church of Jesus Christ of Latter-Day Saints\, 905 Richmond Road\, Susanville\, CA\, 96130
CATEGORIES:Community Youth Event
ATTACH;FMTTYPE=image/png:https://www.quincystakeyouth.com/wp-content/uploads/2024/01/Artboard-6-copy-3the-chosen-teen-movie-night-susanville-california-christian-watch-party.png
END:VEVENT
BEGIN:VEVENT
DTSTART;TZID=America/Los_Angeles:20260315T170000
DTEND;TZID=America/Los_Angeles:20260315T190000
DTSTAMP:20260423T085700
CREATED:20260117T015357Z
LAST-MODIFIED:20260117T020713Z
UID:10000110-1773594000-1773601200@www.quincystakeyouth.com
SUMMARY:"The Chosen" Teen Movie Night
DESCRIPTION:Season 4 – Episode 2 Join us for an incredible experience at ‘The Chosen’ Teen Movie Night\, a free community youth event! Immerse yourself in the captivating story of Jesus Christ and embrace the power of faith. This is not just a movie night\, but a chance to connect with other youth in our community and strengthen your spiritual journey together throughout the year. Don’t miss out on the opportunity to be part of this interfaith event. Bring your friends and let’s make 2026 one to be remembered.
URL:https://www.quincystakeyouth.com/event/the-chosen-teen-movie-night-21/
LOCATION:The Church of Jesus Christ of Latter-Day Saints\, 905 Richmond Road\, Susanville\, CA\, 96130
CATEGORIES:Community Youth Event
ATTACH;FMTTYPE=image/png:https://www.quincystakeyouth.com/wp-content/uploads/2024/01/Artboard-6-copythe-chosen-teen-movie-night-susanville-california-christian-watch-party.png
END:VEVENT
BEGIN:VEVENT
DTSTART;TZID=America/Los_Angeles:20260215T170000
DTEND;TZID=America/Los_Angeles:20260215T190000
DTSTAMP:20260423T085700
CREATED:20260106T215640Z
LAST-MODIFIED:20260106T215640Z
UID:10000098-1771174800-1771182000@www.quincystakeyouth.com
SUMMARY:"The Chosen" Teen Movie Night
DESCRIPTION:Season 4 – Episode 1 Join us for an incredible experience at ‘The Chosen’ Teen Movie Night\, a free community youth event! Immerse yourself in the captivating story of Jesus Christ and embrace the power of faith. This is not just a movie night\, but a chance to connect with other youth in our community and strengthen your spiritual journey together throughout the year. Don’t miss out on the opportunity to be part of this interfaith event. Bring your friends and let’s make 2026 one to be remembered.
URL:https://www.quincystakeyouth.com/event/the-chosen-teen-movie-night-20/
LOCATION:The Church of Jesus Christ of Latter-Day Saints\, 905 Richmond Road\, Susanville\, CA\, 96130
CATEGORIES:Community Youth Event
ATTACH;FMTTYPE=image/png:https://www.quincystakeyouth.com/wp-content/uploads/2024/01/Artboard-6-copy-5the-chosen-teen-movie-night-susanville-california-christian-watch-party.png
END:VEVENT
BEGIN:VEVENT
DTSTART;TZID=America/Los_Angeles:20260125T170000
DTEND;TZID=America/Los_Angeles:20260125T190000
DTSTAMP:20260423T085700
CREATED:20260106T212034Z
LAST-MODIFIED:20260106T213004Z
UID:10000097-1769360400-1769367600@www.quincystakeyouth.com
SUMMARY:"The Chosen" Teen Movie Night
DESCRIPTION:Season 3 – Episode 8 Join us for an incredible experience at ‘The Chosen’ Teen Movie Night\, a free community youth event! Immerse yourself in the captivating story of Jesus Christ and embrace the power of faith. This is not just a movie night\, but a chance to connect with other youth in our community and strengthen your spiritual journey together throughout the year. Don’t miss out on the opportunity to be part of this interfaith event. Bring your friends and let’s make 2026 one to be remembered.
URL:https://www.quincystakeyouth.com/event/the-chosen-teen-movie-night-19/
LOCATION:The Church of Jesus Christ of Latter-Day Saints\, 905 Richmond Road\, Susanville\, CA\, 96130
CATEGORIES:Community Youth Event
ATTACH;FMTTYPE=image/png:https://www.quincystakeyouth.com/wp-content/uploads/2024/01/Artboard-6-copy-5the-chosen-teen-movie-night-susanville-california-christian-watch-party.png
END:VEVENT
BEGIN:VEVENT
DTSTART;TZID=America/Los_Angeles:20251116T170000
DTEND;TZID=America/Los_Angeles:20251116T190000
DTSTAMP:20260423T085700
CREATED:20250103T213316Z
LAST-MODIFIED:20250103T213511Z
UID:10000084-1763312400-1763319600@www.quincystakeyouth.com
SUMMARY:"The Chosen" Teen Movie Night
DESCRIPTION:Season 3 – Episode 7 Join us for an incredible experience at ‘The Chosen’ Teen Movie Night\, a free community youth event! Immerse yourself in the captivating story of Jesus Christ and embrace the power of faith. This is not just a movie night\, but a chance to connect with other youth in our community and strengthen your spiritual journey together throughout the year. Don’t miss out on the opportunity to be part of this interfaith event. Bring your friends and let’s make 2024 one to be remembered.
URL:https://www.quincystakeyouth.com/event/the-chosen-teen-movie-night-18/
LOCATION:The Church of Jesus Christ of Latter-Day Saints\, 905 Richmond Road\, Susanville\, CA\, 96130
CATEGORIES:Community Youth Event
ATTACH;FMTTYPE=image/png:https://www.quincystakeyouth.com/wp-content/uploads/2024/01/Artboard-6-copy-4the-chosen-teen-movie-night-susanville-california-christian-watch-party.png
END:VEVENT
BEGIN:VEVENT
DTSTART;TZID=America/Los_Angeles:20251019T170000
DTEND;TZID=America/Los_Angeles:20251019T190000
DTSTAMP:20260423T085700
CREATED:20250103T213109Z
LAST-MODIFIED:20250103T213109Z
UID:10000083-1760893200-1760900400@www.quincystakeyouth.com
SUMMARY:"The Chosen" Teen Movie Night
DESCRIPTION:Season 3 – Episode 6 Join us for an incredible experience at ‘The Chosen’ Teen Movie Night\, a free community youth event! Immerse yourself in the captivating story of Jesus Christ and embrace the power of faith. This is not just a movie night\, but a chance to connect with other youth in our community and strengthen your spiritual journey together throughout the year. Don’t miss out on the opportunity to be part of this interfaith event. Bring your friends and let’s make 2024 one to be remembered.
URL:https://www.quincystakeyouth.com/event/the-chosen-teen-movie-night-17/
LOCATION:The Church of Jesus Christ of Latter-Day Saints\, 905 Richmond Road\, Susanville\, CA\, 96130
CATEGORIES:Community Youth Event
ATTACH;FMTTYPE=image/png:https://www.quincystakeyouth.com/wp-content/uploads/2024/01/Artboard-6-copy-3the-chosen-teen-movie-night-susanville-california-christian-watch-party.png
END:VEVENT
BEGIN:VEVENT
DTSTART;TZID=America/Los_Angeles:20250921T170000
DTEND;TZID=America/Los_Angeles:20250921T190000
DTSTAMP:20260423T085700
CREATED:20250103T212908Z
LAST-MODIFIED:20250103T212908Z
UID:10000082-1758474000-1758481200@www.quincystakeyouth.com
SUMMARY:"The Chosen" Teen Movie Night
DESCRIPTION:Season 3 – Episode 5 Join us for an incredible experience at ‘The Chosen’ Teen Movie Night\, a free community youth event! Immerse yourself in the captivating story of Jesus Christ and embrace the power of faith. This is not just a movie night\, but a chance to connect with other youth in our community and strengthen your spiritual journey together throughout the year. Don’t miss out on the opportunity to be part of this interfaith event. Bring your friends and let’s make 2024 one to be remembered.
URL:https://www.quincystakeyouth.com/event/the-chosen-teen-movie-night-16/
LOCATION:The Church of Jesus Christ of Latter-Day Saints\, 905 Richmond Road\, Susanville\, CA\, 96130
CATEGORIES:Community Youth Event
ATTACH;FMTTYPE=image/png:https://www.quincystakeyouth.com/wp-content/uploads/2024/01/Artboard-6-copy-5the-chosen-teen-movie-night-susanville-california-christian-watch-party-1.png
END:VEVENT
BEGIN:VEVENT
DTSTART;TZID=America/Los_Angeles:20250817T170000
DTEND;TZID=America/Los_Angeles:20250817T190000
DTSTAMP:20260423T085700
CREATED:20250103T212658Z
LAST-MODIFIED:20250103T212658Z
UID:10000081-1755450000-1755457200@www.quincystakeyouth.com
SUMMARY:"The Chosen" Teen Movie Night
DESCRIPTION:Season 3 – Episode 4 Join us for an incredible experience at ‘The Chosen’ Teen Movie Night\, a free community youth event! Immerse yourself in the captivating story of Jesus Christ and embrace the power of faith. This is not just a movie night\, but a chance to connect with other youth in our community and strengthen your spiritual journey together throughout the year. Don’t miss out on the opportunity to be part of this interfaith event. Bring your friends and let’s make 2024 one to be remembered.
URL:https://www.quincystakeyouth.com/event/the-chosen-teen-movie-night-15/
LOCATION:The Church of Jesus Christ of Latter-Day Saints\, 905 Richmond Road\, Susanville\, CA\, 96130
CATEGORIES:Community Youth Event
ATTACH;FMTTYPE=image/png:https://www.quincystakeyouth.com/wp-content/uploads/2024/01/Artboard-6-copythe-chosen-teen-movie-night-susanville-california-christian-watch-party-1.png
END:VEVENT
BEGIN:VEVENT
DTSTART;TZID=America/Los_Angeles:20250727T170000
DTEND;TZID=America/Los_Angeles:20250727T190000
DTSTAMP:20260423T085700
CREATED:20250103T212158Z
LAST-MODIFIED:20250103T212158Z
UID:10000080-1753635600-1753642800@www.quincystakeyouth.com
SUMMARY:"The Chosen" Teen Movie Night
DESCRIPTION:Season 3 – Episode 3 Join us for an incredible experience at ‘The Chosen’ Teen Movie Night\, a free community youth event! Immerse yourself in the captivating story of Jesus Christ and embrace the power of faith. This is not just a movie night\, but a chance to connect with other youth in our community and strengthen your spiritual journey together throughout the year. Don’t miss out on the opportunity to be part of this interfaith event. Bring your friends and let’s make 2024 one to be remembered.
URL:https://www.quincystakeyouth.com/event/the-chosen-teen-movie-night-14/
LOCATION:The Church of Jesus Christ of Latter-Day Saints\, 905 Richmond Road\, Susanville\, CA\, 96130
CATEGORIES:Community Youth Event
ATTACH;FMTTYPE=image/png:https://www.quincystakeyouth.com/wp-content/uploads/2024/01/Artboard-6-copy-2the-chosen-teen-movie-night-susanville-california-christian-watch-party.png
END:VEVENT
BEGIN:VEVENT
DTSTART;TZID=America/Los_Angeles:20250629T170000
DTEND;TZID=America/Los_Angeles:20250629T190000
DTSTAMP:20260423T085700
CREATED:20250103T211957Z
LAST-MODIFIED:20250622T150145Z
UID:10000079-1751216400-1751223600@www.quincystakeyouth.com
SUMMARY:"The Chosen" Teen Movie Night
DESCRIPTION:Season 3 – Episode 2 Join us for an incredible experience at ‘The Chosen’ Teen Movie Night\, a free community youth event! Immerse yourself in the captivating story of Jesus Christ and embrace the power of faith. This is not just a movie night\, but a chance to connect with other youth in our community and strengthen your spiritual journey together throughout the year. Don’t miss out on the opportunity to be part of this interfaith event. Bring your friends and let’s make 2025 one to be remembered.
URL:https://www.quincystakeyouth.com/event/the-chosen-teen-movie-night-13/
LOCATION:The Church of Jesus Christ of Latter-Day Saints\, 905 Richmond Road\, Susanville\, CA\, 96130
CATEGORIES:Community Youth Event
ATTACH;FMTTYPE=image/png:https://www.quincystakeyouth.com/wp-content/uploads/2024/01/Artboard-6-copy-6the-chosen-teen-movie-night-susanville-california-christian-watch-party.png
END:VEVENT
BEGIN:VEVENT
DTSTART;TZID=America/Los_Angeles:20250518T170000
DTEND;TZID=America/Los_Angeles:20250518T190000
DTSTAMP:20260423T085700
CREATED:20250103T211541Z
LAST-MODIFIED:20250103T211541Z
UID:10000078-1747587600-1747594800@www.quincystakeyouth.com
SUMMARY:"The Chosen" Teen Movie Night
DESCRIPTION:Season 3 – Episode 1 Join us for an incredible experience at ‘The Chosen’ Teen Movie Night\, a free community youth event! Immerse yourself in the captivating story of Jesus Christ and embrace the power of faith. This is not just a movie night\, but a chance to connect with other youth in our community and strengthen your spiritual journey together throughout the year. Don’t miss out on the opportunity to be part of this interfaith event. Bring your friends and let’s make 2024 one to be remembered.
URL:https://www.quincystakeyouth.com/event/the-chosen-teen-movie-night-12/
LOCATION:The Church of Jesus Christ of Latter-Day Saints\, 905 Richmond Road\, Susanville\, CA\, 96130
CATEGORIES:Community Youth Event
ATTACH;FMTTYPE=image/png:https://www.quincystakeyouth.com/wp-content/uploads/2024/01/Artboard-6-copy-4the-chosen-teen-movie-night-susanville-california-christian-watch-party.png
END:VEVENT
BEGIN:VEVENT
DTSTART;TZID=America/Los_Angeles:20250427T170000
DTEND;TZID=America/Los_Angeles:20250427T190000
DTSTAMP:20260423T085700
CREATED:20250103T211035Z
LAST-MODIFIED:20250103T211035Z
UID:10000077-1745773200-1745780400@www.quincystakeyouth.com
SUMMARY:"The Chosen" Teen Movie Night
DESCRIPTION:Season 2 – Episode 8 Join us for an incredible experience at ‘The Chosen’ Teen Movie Night\, a free community youth event! Immerse yourself in the captivating story of Jesus Christ and embrace the power of faith. This is not just a movie night\, but a chance to connect with other youth in our community and strengthen your spiritual journey together throughout the year. Don’t miss out on the opportunity to be part of this interfaith event. Bring your friends and let’s make 2024 one to be remembered.
URL:https://www.quincystakeyouth.com/event/the-chosen-teen-movie-night-11/
LOCATION:The Church of Jesus Christ of Latter-Day Saints\, 905 Richmond Road\, Susanville\, CA\, 96130
CATEGORIES:Community Youth Event
ATTACH;FMTTYPE=image/png:https://www.quincystakeyouth.com/wp-content/uploads/2024/01/Artboard-6-copy-3the-chosen-teen-movie-night-susanville-california-christian-watch-party.png
END:VEVENT
BEGIN:VEVENT
DTSTART;TZID=America/Los_Angeles:20250316T170000
DTEND;TZID=America/Los_Angeles:20250316T190000
DTSTAMP:20260423T085700
CREATED:20250103T201957Z
LAST-MODIFIED:20250103T210727Z
UID:10000076-1742144400-1742151600@www.quincystakeyouth.com
SUMMARY:"The Chosen" Teen Movie Night
DESCRIPTION:Season 2 – Episode 7 Join us for an incredible experience at ‘The Chosen’ Teen Movie Night\, a free community youth event! Immerse yourself in the captivating story of Jesus Christ and embrace the power of faith. This is not just a movie night\, but a chance to connect with other youth in our community and strengthen your spiritual journey together throughout the year. Don’t miss out on the opportunity to be part of this interfaith event. Bring your friends and let’s make 2024 one to be remembered.
URL:https://www.quincystakeyouth.com/event/the-chosen-teen-movie-night-10/
LOCATION:The Church of Jesus Christ of Latter-Day Saints\, 905 Richmond Road\, Susanville\, CA\, 96130
CATEGORIES:Community Youth Event
ATTACH;FMTTYPE=image/png:https://www.quincystakeyouth.com/wp-content/uploads/2024/01/Artboard-6-copythe-chosen-teen-movie-night-susanville-california-christian-watch-party.png
END:VEVENT
BEGIN:VEVENT
DTSTART;TZID=America/Los_Angeles:20250216T170000
DTEND;TZID=America/Los_Angeles:20250216T190000
DTSTAMP:20260423T085700
CREATED:20240105T001011Z
LAST-MODIFIED:20250103T010112Z
UID:10000054-1739725200-1739732400@www.quincystakeyouth.com
SUMMARY:"The Chosen" Teen Movie Night
DESCRIPTION:Season 2 – Episode 6 Join us for an incredible experience at ‘The Chosen’ Teen Movie Night\, a free community youth event! Immerse yourself in the captivating story of Jesus Christ and embrace the power of faith. This is not just a movie night\, but a chance to connect with other youth in our community and strengthen your spiritual journey together throughout the year. Don’t miss out on the opportunity to be part of this interfaith event. Bring your friends and let’s make 2024 one to be remembered.
URL:https://www.quincystakeyouth.com/event/the-chosen/
LOCATION:The Church of Jesus Christ of Latter-Day Saints\, 905 Richmond Road\, Susanville\, CA\, 96130
CATEGORIES:Community Youth Event
ATTACH;FMTTYPE=image/png:https://www.quincystakeyouth.com/wp-content/uploads/2024/01/Artboard-6-copy-5the-chosen-teen-movie-night-susanville-california-christian-watch-party.png
END:VEVENT
BEGIN:VEVENT
DTSTART;TZID=America/Los_Angeles:20241117T170000
DTEND;TZID=America/Los_Angeles:20241117T190000
DTSTAMP:20260423T085700
CREATED:20240105T091523Z
LAST-MODIFIED:20240428T221255Z
UID:10000063-1731862800-1731870000@www.quincystakeyouth.com
SUMMARY:"The Chosen" Teen Movie Night
DESCRIPTION:Season 2 – Episode 5 \nJoin us for an incredible experience at ‘The Chosen’ Teen Movie Night\, a free community youth event! Immerse yourself in the captivating story of Jesus Christ and embrace the power of faith. This is not just a movie night\, but a chance to connect with other youth in our community and strengthen your spiritual journey together throughout the year. Don’t miss out on the opportunity to be part of this interfaith event. Bring your friends and let’s make 2024 one to be remembered.
URL:https://www.quincystakeyouth.com/event/the-chosen-teen-movie-night-9/
LOCATION:The Church of Jesus Christ of Latter-Day Saints\, 905 Richmond Road\, Susanville\, CA\, 96130
CATEGORIES:Community Youth Event
ATTACH;FMTTYPE=image/png:https://www.quincystakeyouth.com/wp-content/uploads/2024/01/Artboard-6-copy-4the-chosen-teen-movie-night-susanville-california-christian-watch-party.png
END:VEVENT
BEGIN:VEVENT
DTSTART;TZID=America/Los_Angeles:20241006T170000
DTEND;TZID=America/Los_Angeles:20241006T190000
DTSTAMP:20260423T085700
CREATED:20240105T091336Z
LAST-MODIFIED:20240428T221028Z
UID:10000062-1728234000-1728241200@www.quincystakeyouth.com
SUMMARY:"The Chosen" Teen Movie Night
DESCRIPTION:Season 2 – Episode 4 \nJoin us for an incredible experience at ‘The Chosen’ Teen Movie Night\, a free community youth event! Immerse yourself in the captivating story of Jesus Christ and embrace the power of faith. This is not just a movie night\, but a chance to connect with other youth in our community and strengthen your spiritual journey together throughout the year. Don’t miss out on the opportunity to be part of this interfaith event. Bring your friends and let’s make 2024 one to be remembered.
URL:https://www.quincystakeyouth.com/event/the-chosen-teen-movie-night-8/
LOCATION:The Church of Jesus Christ of Latter-Day Saints\, 905 Richmond Road\, Susanville\, CA\, 96130
CATEGORIES:Community Youth Event
ATTACH;FMTTYPE=image/png:https://www.quincystakeyouth.com/wp-content/uploads/2024/01/Artboard-6-copy-3the-chosen-teen-movie-night-susanville-california-christian-watch-party.png
END:VEVENT
BEGIN:VEVENT
DTSTART;TZID=America/Los_Angeles:20240915T170000
DTEND;TZID=America/Los_Angeles:20240915T190000
DTSTAMP:20260423T085700
CREATED:20240105T091116Z
LAST-MODIFIED:20240428T220755Z
UID:10000061-1726419600-1726426800@www.quincystakeyouth.com
SUMMARY:"The Chosen" Teen Movie Night
DESCRIPTION:Season 2 – Episode 2 & 3 \nJoin us for an incredible experience at ‘The Chosen’ Teen Movie Night\, a free community youth event! Immerse yourself in the captivating story of Jesus Christ and embrace the power of faith. This is not just a movie night\, but a chance to connect with other youth in our community and strengthen your spiritual journey together throughout the year. Don’t miss out on the opportunity to be part of this interfaith event. Bring your friends and let’s make 2024 one to be remembered.
URL:https://www.quincystakeyouth.com/event/the-chosen-teen-movie-night-7/
LOCATION:The Church of Jesus Christ of Latter-Day Saints\, 905 Richmond Road\, Susanville\, CA\, 96130
CATEGORIES:Community Youth Event
ATTACH;FMTTYPE=image/png:https://www.quincystakeyouth.com/wp-content/uploads/2024/01/Artboard-6-copy-5the-chosen-teen-movie-night-susanville-california-christian-watch-party.png
END:VEVENT
BEGIN:VEVENT
DTSTART;TZID=America/Los_Angeles:20240804T170000
DTEND;TZID=America/Los_Angeles:20240804T190000
DTSTAMP:20260423T085700
CREATED:20240105T090916Z
LAST-MODIFIED:20240428T220520Z
UID:10000060-1722790800-1722798000@www.quincystakeyouth.com
SUMMARY:"The Chosen" Teen Movie Night
DESCRIPTION:Season 2 – Episode 1 \nJoin us for an incredible experience at ‘The Chosen’ Teen Movie Night\, a free community youth event! Immerse yourself in the captivating story of Jesus Christ and embrace the power of faith. This is not just a movie night\, but a chance to connect with other youth in our community and strengthen your spiritual journey together throughout the year. Don’t miss out on the opportunity to be part of this interfaith event. Bring your friends and let’s make 2024 one to be remembered.
URL:https://www.quincystakeyouth.com/event/the-chosen-teen-movie-night-6/
LOCATION:The Church of Jesus Christ of Latter-Day Saints\, 905 Richmond Road\, Susanville\, CA\, 96130
CATEGORIES:Community Youth Event
ATTACH;FMTTYPE=image/png:https://www.quincystakeyouth.com/wp-content/uploads/2024/01/Artboard-6-copythe-chosen-teen-movie-night-susanville-california-christian-watch-party-1.png
END:VEVENT
BEGIN:VEVENT
DTSTART;TZID=America/Los_Angeles:20240707T170000
DTEND;TZID=America/Los_Angeles:20240707T190000
DTSTAMP:20260423T085700
CREATED:20240105T090749Z
LAST-MODIFIED:20240428T220221Z
UID:10000059-1720371600-1720378800@www.quincystakeyouth.com
SUMMARY:"The Chosen" Teen Movie Night
DESCRIPTION:Season 1 – Episode 7 & 8 \nJoin us for an incredible experience at ‘The Chosen’ Teen Movie Night\, a free community youth event! Immerse yourself in the captivating story of Jesus Christ and embrace the power of faith. This is not just a movie night\, but a chance to connect with other youth in our community and strengthen your spiritual journey together throughout the year. Don’t miss out on the opportunity to be part of this interfaith event. Bring your friends and let’s make 2024 one to be remembered.
URL:https://www.quincystakeyouth.com/event/the-chosen-teen-movie-night-5/
LOCATION:The Church of Jesus Christ of Latter-Day Saints\, 905 Richmond Road\, Susanville\, CA\, 96130
CATEGORIES:Community Youth Event
ATTACH;FMTTYPE=image/png:https://www.quincystakeyouth.com/wp-content/uploads/2024/01/Artboard-6-copy-2the-chosen-teen-movie-night-susanville-california-christian-watch-party.png
END:VEVENT
BEGIN:VEVENT
DTSTART;TZID=America/Los_Angeles:20240602T170000
DTEND;TZID=America/Los_Angeles:20240602T190000
DTSTAMP:20260423T085700
CREATED:20240105T090459Z
LAST-MODIFIED:20240428T215818Z
UID:10000058-1717347600-1717354800@www.quincystakeyouth.com
SUMMARY:"The Chosen" Teen Movie Night
DESCRIPTION:Season 1 – Episode 6 \nJoin us for an incredible experience at ‘The Chosen’ Teen Movie Night\, a free community youth event! Immerse yourself in the captivating story of Jesus Christ and embrace the power of faith. This is not just a movie night\, but a chance to connect with other youth in our community and strengthen your spiritual journey together throughout the year. Don’t miss out on the opportunity to be part of this interfaith event. Bring your friends and let’s make 2024 one to be remembered.
URL:https://www.quincystakeyouth.com/event/the-chosen-teen-movie-night-4/
LOCATION:The Church of Jesus Christ of Latter-Day Saints\, 905 Richmond Road\, Susanville\, CA\, 96130
CATEGORIES:Community Youth Event
ATTACH;FMTTYPE=image/png:https://www.quincystakeyouth.com/wp-content/uploads/2024/01/Artboard-6-copy-6the-chosen-teen-movie-night-susanville-california-christian-watch-party.png
END:VEVENT
BEGIN:VEVENT
DTSTART;TZID=America/Los_Angeles:20240519T170000
DTEND;TZID=America/Los_Angeles:20240519T190000
DTSTAMP:20260423T085700
CREATED:20240105T090303Z
LAST-MODIFIED:20240428T214058Z
UID:10000057-1716138000-1716145200@www.quincystakeyouth.com
SUMMARY:"The Chosen" Teen Movie Night
DESCRIPTION:Season 1 – Episode 5 \nJoin us for an incredible experience at ‘The Chosen’ Teen Movie Night\, a free community youth event! Immerse yourself in the captivating story of Jesus Christ and embrace the power of faith. This is not just a movie night\, but a chance to connect with other youth in our community and strengthen your spiritual journey together throughout the year. Don’t miss out on the opportunity to be part of this interfaith event. Bring your friends and let’s make 2024 one to be remembered.
URL:https://www.quincystakeyouth.com/event/the-chosen-teen-movie-night-3/
LOCATION:The Church of Jesus Christ of Latter-Day Saints\, 905 Richmond Road\, Susanville\, CA\, 96130
CATEGORIES:Community Youth Event
ATTACH;FMTTYPE=image/png:https://www.quincystakeyouth.com/wp-content/uploads/2024/01/Artboard-6-copy-4the-chosen-teen-movie-night-susanville-california-christian-watch-party.png
END:VEVENT
BEGIN:VEVENT
DTSTART;TZID=America/Los_Angeles:20240421T180000
DTEND;TZID=America/Los_Angeles:20240421T200000
DTSTAMP:20260423T085700
CREATED:20240105T090022Z
LAST-MODIFIED:20240117T003519Z
UID:10000056-1713722400-1713729600@www.quincystakeyouth.com
SUMMARY:"The Chosen" Teen Movie Night
DESCRIPTION:Season 1 – Episode 4 \nJoin us for an incredible experience at ‘The Chosen’ Teen Movie Night\, a free community youth event! Immerse yourself in the captivating story of Jesus Christ and embrace the power of faith. This is not just a movie night\, but a chance to connect with other youth in our community and strengthen your spiritual journey together throughout the year. Don’t miss out on the opportunity to be part of this interfaith event. Bring your friends and let’s make 2024 one to be remembered.
URL:https://www.quincystakeyouth.com/event/the-chosen-teen-movie-night-2/
LOCATION:The Church of Jesus Christ of Latter-Day Saints\, 905 Richmond Road\, Susanville\, CA\, 96130
CATEGORIES:Community Youth Event
ATTACH;FMTTYPE=image/png:https://www.quincystakeyouth.com/wp-content/uploads/2024/01/Artboard-6-copy-3the-chosen-teen-movie-night-susanville-california-christian-watch-party.png
END:VEVENT
BEGIN:VEVENT
DTSTART;TZID=America/Los_Angeles:20240303T180000
DTEND;TZID=America/Los_Angeles:20240303T200000
DTSTAMP:20260423T085700
CREATED:20240105T001350Z
LAST-MODIFIED:20240117T003412Z
UID:10000055-1709488800-1709496000@www.quincystakeyouth.com
SUMMARY:"The Chosen" Teen Movie Night
DESCRIPTION:Season 1 – Episode 2 & 3 \nJoin us for an incredible experience at ‘The Chosen’ Teen Movie Night\, a free community youth event! Immerse yourself in the captivating story of Jesus Christ and embrace the power of faith. This is not just a movie night\, but a chance to connect with other youth in our community and strengthen your spiritual journey together throughout the year. Don’t miss out on the opportunity to be part of this interfaith event. Bring your friends and let’s make 2024 one to be remembered.
URL:https://www.quincystakeyouth.com/event/the-chosen-teen-movie-night/
LOCATION:The Church of Jesus Christ of Latter-Day Saints\, 905 Richmond Road\, Susanville\, CA\, 96130
CATEGORIES:Community Youth Event
ATTACH;FMTTYPE=image/png:https://www.quincystakeyouth.com/wp-content/uploads/2024/01/Artboard-6-copythe-chosen-teen-movie-night-susanville-california-christian-watch-party.png
END:VEVENT
END:VCALENDAR