BEGIN:VCALENDAR
VERSION:2.0
PRODID:-//Quincy Stake Youth - ECPv6.15.20//NONSGML v1.0//EN
CALSCALE:GREGORIAN
METHOD:PUBLISH
X-WR-CALNAME:Quincy Stake Youth
X-ORIGINAL-URL:https://www.quincystakeyouth.com
X-WR-CALDESC:Events for Quincy Stake Youth
REFRESH-INTERVAL;VALUE=DURATION:PT1H
X-Robots-Tag:noindex
X-PUBLISHED-TTL:PT1H
BEGIN:VTIMEZONE
TZID:America/Los_Angeles
BEGIN:DAYLIGHT
TZOFFSETFROM:-0800
TZOFFSETTO:-0700
TZNAME:PDT
DTSTART:20220313T100000
END:DAYLIGHT
BEGIN:STANDARD
TZOFFSETFROM:-0700
TZOFFSETTO:-0800
TZNAME:PST
DTSTART:20221106T090000
END:STANDARD
BEGIN:DAYLIGHT
TZOFFSETFROM:-0800
TZOFFSETTO:-0700
TZNAME:PDT
DTSTART:20230312T100000
END:DAYLIGHT
BEGIN:STANDARD
TZOFFSETFROM:-0700
TZOFFSETTO:-0800
TZNAME:PST
DTSTART:20231105T090000
END:STANDARD
BEGIN:DAYLIGHT
TZOFFSETFROM:-0800
TZOFFSETTO:-0700
TZNAME:PDT
DTSTART:20240310T100000
END:DAYLIGHT
BEGIN:STANDARD
TZOFFSETFROM:-0700
TZOFFSETTO:-0800
TZNAME:PST
DTSTART:20241103T090000
END:STANDARD
BEGIN:DAYLIGHT
TZOFFSETFROM:-0800
TZOFFSETTO:-0700
TZNAME:PDT
DTSTART:20250309T100000
END:DAYLIGHT
BEGIN:STANDARD
TZOFFSETFROM:-0700
TZOFFSETTO:-0800
TZNAME:PST
DTSTART:20251102T090000
END:STANDARD
BEGIN:DAYLIGHT
TZOFFSETFROM:-0800
TZOFFSETTO:-0700
TZNAME:PDT
DTSTART:20260308T100000
END:DAYLIGHT
BEGIN:STANDARD
TZOFFSETFROM:-0700
TZOFFSETTO:-0800
TZNAME:PST
DTSTART:20261101T090000
END:STANDARD
BEGIN:DAYLIGHT
TZOFFSETFROM:-0800
TZOFFSETTO:-0700
TZNAME:PDT
DTSTART:20270314T100000
END:DAYLIGHT
BEGIN:STANDARD
TZOFFSETFROM:-0700
TZOFFSETTO:-0800
TZNAME:PST
DTSTART:20271107T090000
END:STANDARD
END:VTIMEZONE
BEGIN:VEVENT
DTSTART;TZID=America/Los_Angeles:20260418T200000
DTEND;TZID=America/Los_Angeles:20260418T223000
DTSTAMP:20260423T073159
CREATED:20260406T032514Z
LAST-MODIFIED:20260406T033342Z
UID:10000120-1776542400-1776551400@www.quincystakeyouth.com
SUMMARY:Olympic Night Regional Dance (Date changed from 17th to 18th)
DESCRIPTION:Go for the gold! All youth turning 14+ in 2026 are invited to a Regional Dance. Feel free to represent your Olympic team or sport! Activities and prizes… come prepared to play!
URL:https://www.quincystakeyouth.com/event/olympic-night-regional-dance/
LOCATION:Golconda Church Building\, 1095 Golconda Dr.\, Reno\, NV\, 89509\, United States
CATEGORIES:Dance,Regional Youth
ATTACH;FMTTYPE=image/jpeg:https://www.quincystakeyouth.com/wp-content/uploads/2026/04/IMG_20260405_201204-1-e1775445885854.jpg
END:VEVENT
BEGIN:VEVENT
DTSTART;TZID=America/Los_Angeles:20260314T193000
DTEND;TZID=America/Los_Angeles:20260314T223000
DTSTAMP:20260423T073159
CREATED:20260301T190059Z
LAST-MODIFIED:20260301T190059Z
UID:10000119-1773516600-1773527400@www.quincystakeyouth.com
SUMMARY:2026 Mormal Spring Formal / A Moonlit Forest
DESCRIPTION:All youth 16+ are invited to the Spring Formal Regional Dance! Take a date or friends to a Moonlit Forest!
URL:https://www.quincystakeyouth.com/event/2026-mormal-spring-formal-a-moonlit-forest/
LOCATION:Rock Church Building\, 2955 Rock Blvd.\, Sparks\, NV\, 89431\, United States
CATEGORIES:Dance,Regional Youth
ATTACH;FMTTYPE=image/png:https://www.quincystakeyouth.com/wp-content/uploads/2023/01/Artboard-1-copy-7event-headers.png
END:VEVENT
BEGIN:VEVENT
DTSTART;TZID=America/Los_Angeles:20260221T190000
DTEND;TZID=America/Los_Angeles:20260221T220000
DTSTAMP:20260423T073159
CREATED:20260106T222425Z
LAST-MODIFIED:20260130T064227Z
UID:10000100-1771700400-1771711200@www.quincystakeyouth.com
SUMMARY:Masked-Out Ball / Regional Dance
DESCRIPTION:Dress to Impress\, modest & fun! All youth turning 14+ in 2026 are invited to attend. There will be an eye mask contest. Eye Masks ONLY (No Full Masks Permitted). Prizes will be given out for the following categories: Silliest\, Colorful\, Frilly\, Dynamic Duo\, Terrific Trio\, Fantastic 4 or more.
URL:https://www.quincystakeyouth.com/event/regional-youth-dance-12/
LOCATION:Rock Church Building\, 2955 Rock Blvd.\, Sparks\, NV\, 89431\, United States
CATEGORIES:Dance,Regional Youth
ATTACH;FMTTYPE=image/jpeg:https://www.quincystakeyouth.com/wp-content/uploads/2026/01/AdobeStock_480731621-scaled-e1769754887924.jpeg
END:VEVENT
BEGIN:VEVENT
DTSTART;TZID=America/Los_Angeles:20260124T193000
DTEND;TZID=America/Los_Angeles:20260124T220000
DTSTAMP:20260423T073159
CREATED:20260106T010550Z
LAST-MODIFIED:20260107T020748Z
UID:10000096-1769283000-1769292000@www.quincystakeyouth.com
SUMMARY:Regional Youth Dance / Winter Wonderland
DESCRIPTION:All youth turning 14+ in 2026 are invited to attend the Winter Wonderland Dance! Popcorn and Snow cone’s will be served!
URL:https://www.quincystakeyouth.com/event/regional-youth-dance-winter-wonderland/
LOCATION:Kings Row Stake Center\, 2505 Kings Row\, Reno\, NV\, 89503\, United States
CATEGORIES:Dance,Regional Youth
ATTACH;FMTTYPE=image/png:https://www.quincystakeyouth.com/wp-content/uploads/2026/01/Artboard-2-copyheader.png
END:VEVENT
BEGIN:VEVENT
DTSTART;VALUE=DATE:20251231
DTEND;VALUE=DATE:20260101
DTSTAMP:20260423T073159
CREATED:20250103T194433Z
LAST-MODIFIED:20250103T194433Z
UID:10000073-1767139200-1767225599@www.quincystakeyouth.com
SUMMARY:Regional Youth Dance / New Year's Eve
DESCRIPTION:Time\, Location & More Info Coming Soon!
URL:https://www.quincystakeyouth.com/event/regional-youth-dance-new-years-eve-2/
CATEGORIES:Dance,Regional Youth
ATTACH;FMTTYPE=image/png:https://www.quincystakeyouth.com/wp-content/uploads/2023/01/Artboard-1-copy-11event-headers.png
END:VEVENT
BEGIN:VEVENT
DTSTART;TZID=America/Los_Angeles:20251018T190000
DTEND;TZID=America/Los_Angeles:20251018T220000
DTSTAMP:20260423T073159
CREATED:20251001T222856Z
LAST-MODIFIED:20251001T223036Z
UID:10000094-1760814000-1760824800@www.quincystakeyouth.com
SUMMARY:Regional Barn Dance in Fallon
DESCRIPTION:All youth turning 14-18 are invited to an Outdoor Barn Dance in Fallon\, Nevada! Saturday\, October 18th from 7-10pm. Two-Step in your western best. Games\, Food\, Bonfire & Dance Instruction. Bring your friends. There is a lot of hay so take your allergy meds and dress for the outdoors.
URL:https://www.quincystakeyouth.com/event/fallon-barn-dance/
LOCATION:475 South Crook Rd. Fallon\, NV\, 475 South Crook Road\, Fallon\, 89406\, United States
CATEGORIES:Dance,Regional Youth
ATTACH;FMTTYPE=image/png:https://www.quincystakeyouth.com/wp-content/uploads/2023/02/Artboard-5barn.png
END:VEVENT
BEGIN:VEVENT
DTSTART;TZID=America/Los_Angeles:20251011T190000
DTEND;TZID=America/Los_Angeles:20251011T210000
DTSTAMP:20260423T073159
CREATED:20250103T194223Z
LAST-MODIFIED:20251001T210525Z
UID:10000072-1760209200-1760216400@www.quincystakeyouth.com
SUMMARY:Halloween Regional Dance
DESCRIPTION:All youth turning 14+ are invited to a Halloween Regional Dance! October 11th from 7-9pm. Costumes are encouraged but ask yourself\, “Is my costume worthy of a disciple of Christ?”
URL:https://www.quincystakeyouth.com/event/regional-youth-dance-11/
LOCATION:Carson City Stake Center\, 411 N Saliman Road\, Carson City\, NV\, 89701\, United States
CATEGORIES:Dance,Regional Youth
ATTACH;FMTTYPE=image/jpeg:https://www.quincystakeyouth.com/wp-content/uploads/2025/01/AdobeStock_1617818759-scaled.jpeg
END:VEVENT
BEGIN:VEVENT
DTSTART;TZID=America/Los_Angeles:20250906T190000
DTEND;TZID=America/Los_Angeles:20250906T220000
DTSTAMP:20260423T073159
CREATED:20250103T194054Z
LAST-MODIFIED:20250810T232119Z
UID:10000071-1757185200-1757196000@www.quincystakeyouth.com
SUMMARY:Sock Hop / Regional Youth Dance
DESCRIPTION:All youth 14+ are invited to a Regional Youth Dance Sock Hop! There will be an optional Cardboard Car Contest! Prizes will be awarded! Scroll down for more information about the contest. You won’t want to miss this one!
URL:https://www.quincystakeyouth.com/event/regional-youth-dance-10/
LOCATION:Rock Church Building\, 2955 Rock Blvd.\, Sparks\, NV\, 89431\, United States
CATEGORIES:Dance,Regional Youth
ATTACH;FMTTYPE=image/jpeg:https://www.quincystakeyouth.com/wp-content/uploads/2025/01/AdobeStock_1095061717.jpeg
END:VEVENT
BEGIN:VEVENT
DTSTART;VALUE=DATE:20250516
DTEND;VALUE=DATE:20250517
DTSTAMP:20260423T073159
CREATED:20250103T193900Z
LAST-MODIFIED:20250427T214231Z
UID:10000070-1747353600-1747439999@www.quincystakeyouth.com
SUMMARY:2025 Mormal / A Night in Venice
DESCRIPTION:All youth 16+ are invited to the Spring Formal Regional Dance!\nNOTE: The date of the dance was originally May 10th\, but was moved to Friday\, May 16th \nIf you plan to attend PLEASE RSVP at the QR Code Below \nPasta dinner will be served at 7:00pm before the dance.\n*You must be 16 before the date of the dance to attend*
URL:https://www.quincystakeyouth.com/event/regional-youth-dance-spring-formal-3/
CATEGORIES:Dance,Regional Youth
ATTACH;FMTTYPE=image/png:https://www.quincystakeyouth.com/wp-content/uploads/2023/01/Artboard-1-copy-7event-headers.png
END:VEVENT
BEGIN:VEVENT
DTSTART;VALUE=DATE:20250412
DTEND;VALUE=DATE:20250413
DTSTAMP:20260423T073159
CREATED:20250103T193717Z
LAST-MODIFIED:20250403T201427Z
UID:10000069-1744416000-1744502399@www.quincystakeyouth.com
SUMMARY:Regional Youth Dance / CANCELED
DESCRIPTION:The planned Regional Youth Dance for April has been Canceled.
URL:https://www.quincystakeyouth.com/event/regional-youth-dance-9/
CATEGORIES:Dance,Regional Youth
ATTACH;FMTTYPE=image/png:https://www.quincystakeyouth.com/wp-content/uploads/2023/01/Artboard-1-copy-6event-headers.png
END:VEVENT
BEGIN:VEVENT
DTSTART;TZID=America/Los_Angeles:20250308T180000
DTEND;TZID=America/Los_Angeles:20250308T210000
DTSTAMP:20260423T073159
CREATED:20250103T193152Z
LAST-MODIFIED:20250205T004759Z
UID:10000068-1741456800-1741467600@www.quincystakeyouth.com
SUMMARY:Regional Youth Dance / March Madness
DESCRIPTION:All youth turning 14+ are invited to the March Madness Regional Dance! Located at the Neil Road Church Building on March 8th from 6-9pm. You can come dressed to represent your favorite sports team!
URL:https://www.quincystakeyouth.com/event/regional-youth-dance-march/
LOCATION:Neil Church Building\, 4751 Neil Rd.\, Reno\, NV\, 89502\, United States
CATEGORIES:Dance,Regional Youth
ATTACH;FMTTYPE=image/png:https://www.quincystakeyouth.com/wp-content/uploads/2025/01/Asset-1dance.png
END:VEVENT
BEGIN:VEVENT
DTSTART;TZID=America/Los_Angeles:20250201T190000
DTEND;TZID=America/Los_Angeles:20250201T220000
DTSTAMP:20260423T073159
CREATED:20230124T214907Z
LAST-MODIFIED:20250103T190933Z
UID:10000007-1738436400-1738447200@www.quincystakeyouth.com
SUMMARY:Regional Youth Dance / Winter White!
DESCRIPTION:All youth turning 14+ are invited to a Regional Dance! The theme is “Winter White”… you can wear all white!  Come learn line dances from 7-8pm and the dance will be from 8-10pm. Don’t miss it!
URL:https://www.quincystakeyouth.com/event/regional-youth-dance/
LOCATION:Rock Church Building\, 2955 Rock Blvd.\, Sparks\, NV\, 89431\, United States
CATEGORIES:Dance,Regional Youth
ATTACH;FMTTYPE=image/png:https://www.quincystakeyouth.com/wp-content/uploads/2023/01/Artboard-2winter-white1.png
END:VEVENT
BEGIN:VEVENT
DTSTART;VALUE=DATE:20241231
DTEND;VALUE=DATE:20250101
DTSTAMP:20260423T073159
CREATED:20240104T230711Z
LAST-MODIFIED:20240104T230711Z
UID:10000047-1735603200-1735689599@www.quincystakeyouth.com
SUMMARY:Regional Youth Dance / New Year's Eve
DESCRIPTION:Time\, Location & More Info Coming Soon!
URL:https://www.quincystakeyouth.com/event/regional-youth-dance-new-years-eve/
CATEGORIES:Dance,Regional Youth
ATTACH;FMTTYPE=image/png:https://www.quincystakeyouth.com/wp-content/uploads/2023/01/Artboard-1-copy-6event-headers.png
END:VEVENT
BEGIN:VEVENT
DTSTART;TZID=America/Los_Angeles:20241019T193000
DTEND;TZID=America/Los_Angeles:20241019T220000
DTSTAMP:20260423T073159
CREATED:20240104T225317Z
LAST-MODIFIED:20240916T184915Z
UID:10000044-1729366200-1729375200@www.quincystakeyouth.com
SUMMARY:Regional Youth Dance / Plaid-a-Palooza
DESCRIPTION:All youth turning 14+ are invited to a Plaid-a-Palooza Regional Fall Dance! Wear your best plaid and come ready to enjoy a pancake bar and hot chocolate. Bring your friends and come have a good time!
URL:https://www.quincystakeyouth.com/event/regional-youth-dance-7/
LOCATION:Golconda Church Building\, 1095 Golconda Dr.\, Reno\, NV\, 89509\, United States
CATEGORIES:Dance,Regional Youth
ATTACH;FMTTYPE=image/png:https://www.quincystakeyouth.com/wp-content/uploads/2024/01/Artboard-2fall.png
END:VEVENT
BEGIN:VEVENT
DTSTART;TZID=America/Los_Angeles:20240907T193000
DTEND;TZID=America/Los_Angeles:20240907T213000
DTSTAMP:20260423T073159
CREATED:20240104T225803Z
LAST-MODIFIED:20240825T215749Z
UID:10000045-1725737400-1725744600@www.quincystakeyouth.com
SUMMARY:Back to School | Regional Youth Dance
DESCRIPTION:All youth ages 14 and up are invited to join us for a Back to School Night Regional Youth Dance! The dance will be held at 935 Mercedes Dr. in the back parking lot. Represent your school by wearing your school colors! Note: Only park in the front parking lot. \nWe will be doing a Service Project at the back-to-school dance. To participate\, bring school supplies with you to the dance to donate. The following is a list of the most needed school supplies: Tissue\, Clorox Wipes\, Colored Pencils\, Crayons\, Notebooks\, Pencils\, Band-Aids\, and Paper. \n 
URL:https://www.quincystakeyouth.com/event/regional-youth-dance-8/
LOCATION:935 Mercedes Dr. Spanish Springs\, NV 98441\, 935 Mercedes Dr.\, Spanish Springs\, 98441\, United States
CATEGORIES:Dance,Regional Youth
ATTACH;FMTTYPE=image/png:https://www.quincystakeyouth.com/wp-content/uploads/2023/01/Artboard-1-copy-6event-headers.png
END:VEVENT
BEGIN:VEVENT
DTSTART;TZID=America/Los_Angeles:20240504T200000
DTEND;TZID=America/Los_Angeles:20240504T223000
DTSTAMP:20260423T073159
CREATED:20240104T224829Z
LAST-MODIFIED:20240429T163059Z
UID:10000043-1714852800-1714861800@www.quincystakeyouth.com
SUMMARY:Regional Youth Dance
DESCRIPTION:All youth turning 14-18 in 2024 are invited to a Star Wars themed regional dance! Costumes are encouraged… Awards will be given. Don’t miss it!
URL:https://www.quincystakeyouth.com/event/regional-youth-dance-6/
LOCATION:Carson City Stake Center\, 411 N Saliman Road\, Carson City\, NV\, 89701\, United States
CATEGORIES:Dance,Regional Youth
ATTACH;FMTTYPE=image/png:https://www.quincystakeyouth.com/wp-content/uploads/2024/01/Artboard-2photos.png
END:VEVENT
BEGIN:VEVENT
DTSTART;TZID=America/Los_Angeles:20240413T200000
DTEND;TZID=America/Los_Angeles:20240413T230000
DTSTAMP:20260423T073159
CREATED:20240104T230526Z
LAST-MODIFIED:20240405T004315Z
UID:10000046-1713038400-1713049200@www.quincystakeyouth.com
SUMMARY:Regional Youth Dance / Spring Formal
DESCRIPTION:Lights\, Camera\, Action! All youth who are 16+ by the day of the dance are invited to attend the spring formal. Formal Dress. Registration is recommended but not mandatory to attend. \nRegistration requested\, but not mandatory: REGISTER HERE \nNote: This dance was originally on the 20th\, but was recently moved to the 13th.
URL:https://www.quincystakeyouth.com/event/regional-youth-dance-spring-formal-2/
LOCATION:Rock Church Building\, 2955 Rock Blvd.\, Sparks\, NV\, 89431\, United States
CATEGORIES:Dance,Regional Youth
ATTACH;FMTTYPE=image/png:https://www.quincystakeyouth.com/wp-content/uploads/2024/01/Artboard-3dance.png
END:VEVENT
BEGIN:VEVENT
DTSTART;TZID=America/Los_Angeles:20240315T183000
DTEND;TZID=America/Los_Angeles:20240315T203000
DTSTAMP:20260423T073200
CREATED:20240104T224402Z
LAST-MODIFIED:20240312T181031Z
UID:10000042-1710527400-1710534600@www.quincystakeyouth.com
SUMMARY:Regional Youth Activity / Outdoor Glow Show!
DESCRIPTION:You don’t want to miss this Regional Activity for all youth 12+ in 2024! This will be held outside around campfires and will include a “glow show” similar to what is held at the Reno Balloon Races. Please dress appropriately for the outdoor weather and bring a camp chair. \nNote: The location was originally Lemmon Valley\, but it has been changed to the Kings Row Stake Center.
URL:https://www.quincystakeyouth.com/event/regional-youth-dance-5/
LOCATION:Kings Row Stake Center\, 2505 Kings Row\, Reno\, NV\, 89503\, United States
CATEGORIES:Dance,Regional Youth
ATTACH;FMTTYPE=image/png:https://www.quincystakeyouth.com/wp-content/uploads/2024/01/Artboard-5photos.png
END:VEVENT
BEGIN:VEVENT
DTSTART;TZID=America/Los_Angeles:20240210T180000
DTEND;TZID=America/Los_Angeles:20240210T210000
DTSTAMP:20260423T073200
CREATED:20240104T223412Z
LAST-MODIFIED:20240203T214728Z
UID:10000041-1707588000-1707598800@www.quincystakeyouth.com
SUMMARY:Regional Youth Dinner & Dance
DESCRIPTION:Don’t miss the Checker Board Regional Youth Dinner and Dance. Dinner will be followed by dancing. Casual black and white dress encouraged. For all youth turning 14+
URL:https://www.quincystakeyouth.com/event/regional-youth-dance-4/
LOCATION:Neil Church Building\, 4751 Neil Rd.\, Reno\, NV\, 89502\, United States
CATEGORIES:Dance,Regional Youth
ATTACH;FMTTYPE=image/png:https://www.quincystakeyouth.com/wp-content/uploads/2023/01/Artboard-1-copy-6event-headers.png
END:VEVENT
BEGIN:VEVENT
DTSTART;TZID=America/Los_Angeles:20231230T213000
DTEND;TZID=America/Los_Angeles:20231231T001500
DTSTAMP:20260423T073200
CREATED:20230125T011011Z
LAST-MODIFIED:20231208T220109Z
UID:10000012-1703971800-1703981700@www.quincystakeyouth.com
SUMMARY:New Year's Eve Neon Party Regional Dance
DESCRIPTION:All youth turning 14+ are invited to a Regional Dance! Bright neon colors are encouraged! Food\, fun & friends!
URL:https://www.quincystakeyouth.com/event/regional-youth-new-years-eve-dance/
LOCATION:Rock Church Building\, 2955 Rock Blvd.\, Sparks\, NV\, 89431\, United States
CATEGORIES:Dance,Regional Youth
ATTACH;FMTTYPE=image/png:https://www.quincystakeyouth.com/wp-content/uploads/2023/01/Artboard-1-copy-11event-headers.png
END:VEVENT
BEGIN:VEVENT
DTSTART;TZID=America/Los_Angeles:20231021T193000
DTEND;TZID=America/Los_Angeles:20231021T223000
DTSTAMP:20260423T073200
CREATED:20230125T005547Z
LAST-MODIFIED:20231007T054733Z
UID:10000011-1697916600-1697927400@www.quincystakeyouth.com
SUMMARY:Harvest Hype Regional Dance
DESCRIPTION:All youth turning 14+ are invited to a Regional Dance. Casual Attire. Flannel Encouraged! Hope to see you there!
URL:https://www.quincystakeyouth.com/event/harvest-hype/
LOCATION:Golconda Church Building\, 1095 Golconda Dr.\, Reno\, NV\, 89509\, United States
CATEGORIES:Dance,Regional Youth
ATTACH;FMTTYPE=image/png:https://www.quincystakeyouth.com/wp-content/uploads/2023/01/Artboard-1photos-1.png
END:VEVENT
BEGIN:VEVENT
DTSTART;TZID=America/Los_Angeles:20230819T200000
DTEND;TZID=America/Los_Angeles:20230819T223000
DTSTAMP:20260423T073200
CREATED:20230125T004717Z
LAST-MODIFIED:20230809T235649Z
UID:10000010-1692475200-1692484200@www.quincystakeyouth.com
SUMMARY:Hot August Nights Youth Dance
DESCRIPTION:All youth turning 14+ are invited to our Hot August Nights Regional Youth Dance! This dance will be held outside in the parking lot. Casual Dress. Carpool if possible.
URL:https://www.quincystakeyouth.com/event/regional-youth-dance-3/
LOCATION:Lemmon Valley Church Building\, 8080 Lemmon Dr.\, Reno\, 89506
CATEGORIES:Dance,Regional Youth
ATTACH;FMTTYPE=image/png:https://www.quincystakeyouth.com/wp-content/uploads/2023/01/Artboard-1-copy-6event-headers.png
END:VEVENT
BEGIN:VEVENT
DTSTART;TZID=America/Los_Angeles:20230506T200000
DTEND;TZID=America/Los_Angeles:20230506T223000
DTSTAMP:20260423T073200
CREATED:20230125T001221Z
LAST-MODIFIED:20230501T042551Z
UID:10000009-1683403200-1683412200@www.quincystakeyouth.com
SUMMARY:Regional Youth Dance / Around the World
DESCRIPTION:All youth turning 14+ are invited to a Regional Dance! Casual Dress. Dance cards are NOT required! Bring your friends… invite all! \n*NOTE: The “dance card app” says that this dance is on May 20th… that is incorrect\, the date has not been changed in the app.
URL:https://www.quincystakeyouth.com/event/regional-youth-dance-2/
LOCATION:Carson City Stake Center\, 411 N Saliman Road\, Carson City\, NV\, 89701\, United States
CATEGORIES:Dance,Regional Youth
ATTACH;FMTTYPE=image/png:https://www.quincystakeyouth.com/wp-content/uploads/2023/01/Artboard-1-copy-8event-headers-1.png
END:VEVENT
BEGIN:VEVENT
DTSTART;TZID=America/Los_Angeles:20230415T203000
DTEND;TZID=America/Los_Angeles:20230415T230000
DTSTAMP:20260423T073200
CREATED:20230124T234949Z
LAST-MODIFIED:20230316T040250Z
UID:10000008-1681590600-1681599600@www.quincystakeyouth.com
SUMMARY:City of Stars Regional Formal Dance
DESCRIPTION:Don’t miss this fun dance! Must be 16 by the date of the dance to attend. Dates are encouraged. Formal or Semi-Formal Dress. Please read the “For the Strength of Youth” manual to guide your dress and appearance.
URL:https://www.quincystakeyouth.com/event/regional-youth-dance-spring-formal/
LOCATION:Golconda Church Building\, 1095 Golconda Dr.\, Reno\, NV\, 89509\, United States
CATEGORIES:Dance,Regional Youth
ATTACH;FMTTYPE=image/png:https://www.quincystakeyouth.com/wp-content/uploads/2023/01/Artboard-29stars.png
END:VEVENT
BEGIN:VEVENT
DTSTART;TZID=America/Los_Angeles:20230127T190000
DTEND;TZID=America/Los_Angeles:20230127T200000
DTSTAMP:20260423T073200
CREATED:20230124T054600Z
LAST-MODIFIED:20230125T195028Z
UID:10000004-1674846000-1674849600@www.quincystakeyouth.com
SUMMARY:Truman Brothers Concert
DESCRIPTION:All youth turning 12+ are invited! This is a rare invite… encourage youth to grab a friend & don’t miss the biggest event of the year!
URL:https://www.quincystakeyouth.com/event/truman-brothers-concert-quiet-revolution/
LOCATION:Rock Church Building\, 2955 Rock Blvd.\, Sparks\, NV\, 89431\, United States
CATEGORIES:Regional Youth
ATTACH;FMTTYPE=image/png:https://www.quincystakeyouth.com/wp-content/uploads/2023/01/Artboard-1-copyevent-headers.png
END:VEVENT
END:VCALENDAR