BEGIN:VCALENDAR
VERSION:2.0
PRODID:-//Quincy Stake Youth - ECPv6.15.20//NONSGML v1.0//EN
CALSCALE:GREGORIAN
METHOD:PUBLISH
X-WR-CALNAME:Quincy Stake Youth
X-ORIGINAL-URL:https://www.quincystakeyouth.com
X-WR-CALDESC:Events for Quincy Stake Youth
REFRESH-INTERVAL;VALUE=DURATION:PT1H
X-Robots-Tag:noindex
X-PUBLISHED-TTL:PT1H
BEGIN:VTIMEZONE
TZID:America/Los_Angeles
BEGIN:DAYLIGHT
TZOFFSETFROM:-0800
TZOFFSETTO:-0700
TZNAME:PDT
DTSTART:20230312T100000
END:DAYLIGHT
BEGIN:STANDARD
TZOFFSETFROM:-0700
TZOFFSETTO:-0800
TZNAME:PST
DTSTART:20231105T090000
END:STANDARD
BEGIN:DAYLIGHT
TZOFFSETFROM:-0800
TZOFFSETTO:-0700
TZNAME:PDT
DTSTART:20240310T100000
END:DAYLIGHT
BEGIN:STANDARD
TZOFFSETFROM:-0700
TZOFFSETTO:-0800
TZNAME:PST
DTSTART:20241103T090000
END:STANDARD
BEGIN:DAYLIGHT
TZOFFSETFROM:-0800
TZOFFSETTO:-0700
TZNAME:PDT
DTSTART:20250309T100000
END:DAYLIGHT
BEGIN:STANDARD
TZOFFSETFROM:-0700
TZOFFSETTO:-0800
TZNAME:PST
DTSTART:20251102T090000
END:STANDARD
END:VTIMEZONE
BEGIN:VEVENT
DTSTART;TZID=America/Los_Angeles:20241027T180000
DTEND;TZID=America/Los_Angeles:20241027T200000
DTSTAMP:20260424T055454
CREATED:20240104T221628Z
LAST-MODIFIED:20241016T165346Z
UID:10000040-1730052000-1730059200@www.quincystakeyouth.com
SUMMARY:Worldwide Youth Broadcast
DESCRIPTION:The Church of Jesus Christ of Latter-day Saints is inviting youth ages 11-18 from around the world to gather as disciples of Jesus Christ on Sunday\, October 27\, 2024\, to celebrate sharing His light during a special worldwide broadcast. \nYouth were encouraged to continue developing themselves as disciples of Jesus Christ during the January 2024 youth event focused on the 2024 theme “I am a Disciple of Christ.” In the upcoming October event\, Elder Ulisses Soares of the Quorum of the Twelve Apostles\, Young Women General President Emily Belle Freeman and Young Men General President Steven J. Lund will encourage youth to “declare his word among his people\, that they might have everlasting life” (3 Nephi 5:13). \nThe Quincy Stake Youth are invited to meet together at the Susanville Building at 6:00pm. Then youth will be invited to share one thing they learned this year about Jesus Christ. Refreshments will be served after this event. Hope to see you there!
URL:https://www.quincystakeyouth.com/event/worldwide-youth-broadcast-2/
LOCATION:Susanville Church Building\, 905 Richmond Road\, Susanville\, CA\, 96130
CATEGORIES:Stake Youth,Worldwide Broadcast,Youth Fireside
ATTACH;FMTTYPE=image/png:https://www.quincystakeyouth.com/wp-content/uploads/2023/02/Artboard-1globe.png
END:VEVENT
END:VCALENDAR