BEGIN:VCALENDAR
VERSION:2.0
PRODID:-//Quincy Stake Youth - ECPv6.15.20//NONSGML v1.0//EN
CALSCALE:GREGORIAN
METHOD:PUBLISH
X-WR-CALNAME:Quincy Stake Youth
X-ORIGINAL-URL:https://www.quincystakeyouth.com
X-WR-CALDESC:Events for Quincy Stake Youth
REFRESH-INTERVAL;VALUE=DURATION:PT1H
X-Robots-Tag:noindex
X-PUBLISHED-TTL:PT1H
BEGIN:VTIMEZONE
TZID:America/Los_Angeles
BEGIN:DAYLIGHT
TZOFFSETFROM:-0800
TZOFFSETTO:-0700
TZNAME:PDT
DTSTART:20220313T100000
END:DAYLIGHT
BEGIN:STANDARD
TZOFFSETFROM:-0700
TZOFFSETTO:-0800
TZNAME:PST
DTSTART:20221106T090000
END:STANDARD
BEGIN:DAYLIGHT
TZOFFSETFROM:-0800
TZOFFSETTO:-0700
TZNAME:PDT
DTSTART:20230312T100000
END:DAYLIGHT
BEGIN:STANDARD
TZOFFSETFROM:-0700
TZOFFSETTO:-0800
TZNAME:PST
DTSTART:20231105T090000
END:STANDARD
BEGIN:DAYLIGHT
TZOFFSETFROM:-0800
TZOFFSETTO:-0700
TZNAME:PDT
DTSTART:20240310T100000
END:DAYLIGHT
BEGIN:STANDARD
TZOFFSETFROM:-0700
TZOFFSETTO:-0800
TZNAME:PST
DTSTART:20241103T090000
END:STANDARD
BEGIN:DAYLIGHT
TZOFFSETFROM:-0800
TZOFFSETTO:-0700
TZNAME:PDT
DTSTART:20250309T100000
END:DAYLIGHT
BEGIN:STANDARD
TZOFFSETFROM:-0700
TZOFFSETTO:-0800
TZNAME:PST
DTSTART:20251102T090000
END:STANDARD
END:VTIMEZONE
BEGIN:VEVENT
DTSTART;TZID=America/Los_Angeles:20240315T163000
DTEND;TZID=America/Los_Angeles:20240315T180000
DTSTAMP:20260423T102433
CREATED:20240213T001544Z
LAST-MODIFIED:20240225T233200Z
UID:10000064-1710520200-1710525600@www.quincystakeyouth.com
SUMMARY:Stake Temple Trip Youth Baptisms / Session Time 4:30pm
DESCRIPTION:All wards in the Quincy Stake are invited to attend the Stake Temple Trips for Youth Baptisms. Please signup below to be added to the list for this session. Only 16 spots are available for youth who would like to be baptized. An unlimited amount of adults can sign up to watch or help during the session.  Please plan to arrive 30 minutes early to the temple session. Take note that this session time will most likely require that youth plan to leave school a little early this day to make it in time. You may want to wear your church clothes to school and pack what you will need for the night if you plan to attend the Regional Activity. \nNOTE:\nThe previously scheduled Reno Dance was changed into an age 12+ activity and moved to Friday evening right after this Temple Session.\nView the Activity CLICK HERE\nWe also kept the Saturday Temple Session available in case anyone prefers to go on Saturday.\nView the Temple Session CLICK HERE
URL:https://www.quincystakeyouth.com/event/stake-temple-trip-youth-baptisms-session-time-430pm/
LOCATION:Reno Nevada Temple\, 2000 Beaumont Pkwy\, Reno\, NV\, 89523\, United States
CATEGORIES:Stake Youth,Temple Trip
ATTACH;FMTTYPE=image/png:https://www.quincystakeyouth.com/wp-content/uploads/2023/02/Artboard-8temple.png
END:VEVENT
BEGIN:VEVENT
DTSTART;TZID=America/Los_Angeles:20231111T130000
DTEND;TZID=America/Los_Angeles:20231111T160000
DTSTAMP:20260423T102433
CREATED:20230221T224310Z
LAST-MODIFIED:20231105T053513Z
UID:10000022-1699707600-1699718400@www.quincystakeyouth.com
SUMMARY:Epic Scavenger Hunt Stake Youth Activity
DESCRIPTION:Save the Date! This will be a super fun activity on teams around town! Invite your friends and get ready for an extreme scavenger hunt competition! Dessert will be served.
URL:https://www.quincystakeyouth.com/event/stake-youth-activity-4/
LOCATION:Susanville Church Building\, 905 Richmond Road\, Susanville\, CA\, 96130
CATEGORIES:Stake Youth,Stake Youth Activity
ATTACH;FMTTYPE=image/png:https://www.quincystakeyouth.com/wp-content/uploads/2023/02/Artboard-8-copy-3header-images.png
ORGANIZER;CN="Stake Youth Presidency's":MAILTO:quincystakeyouth@gmail.com
END:VEVENT
BEGIN:VEVENT
DTSTART;TZID=America/Los_Angeles:20231022T190000
DTEND;TZID=America/Los_Angeles:20231022T190000
DTSTAMP:20260423T102433
CREATED:20230222T005530Z
LAST-MODIFIED:20231007T062224Z
UID:10000026-1698001200-1698001200@www.quincystakeyouth.com
SUMMARY:Worldwide Testimony Meeting for Youth
DESCRIPTION:On October 22\, 2023\, Latter-day Saint youth around the world are invited to gather for a first of its kind global youth testimony meeting at 7pm to bear witness of Jesus Christ.  Church President Russell M. Nelson\, Young Woman General President Emily Belle Freeman\, and Young Men General President Steven J. Lund will participate in this meeting by sharing their testimonies in a short message that will be shown in the meeting. \nThe Quincy Stake Youth are invited to meet together\, view this message and hold a testimony meeting in the Susanville Building. Refreshments will be served. Hope to see you there!
URL:https://www.quincystakeyouth.com/event/worldwide-event-for-youth-broadcast/
LOCATION:NV
CATEGORIES:Youth Fireside
ATTACH;FMTTYPE=image/png:https://www.quincystakeyouth.com/wp-content/uploads/2023/02/Artboard-1globe.png
ORGANIZER;CN="Stake Youth Presidency's":MAILTO:quincystakeyouth@gmail.com
END:VEVENT
BEGIN:VEVENT
DTSTART;TZID=America/Los_Angeles:20231021T130000
DTEND;TZID=America/Los_Angeles:20231021T140000
DTSTAMP:20260423T102433
CREATED:20231007T051940Z
LAST-MODIFIED:20231007T052034Z
UID:10000034-1697893200-1697896800@www.quincystakeyouth.com
SUMMARY:1:00pm Session / Stake Temple Trip Youth Baptisms
DESCRIPTION:All wards in the Quincy Stake are invited to attend the Stake Temple Trip for Youth Baptisms. You now have the ability to choose your session time! Please signup below to be added to the list for this session. Feel free to invite and coordinate attending a specific session time with your leaders\, family or friends within your ward or from other wards within the Stake. Please plan to arrive 30 minutes early to the temple session. \nPlease sign up by Sun Oct 15th if you plan to attend. Thank you!
URL:https://www.quincystakeyouth.com/event/100pm-session-stake-temple-trip-youth-baptisms/
LOCATION:Reno Nevada Temple\, 2000 Beaumont Pkwy\, Reno\, NV\, 89523\, United States
CATEGORIES:Stake Youth,Temple Trip
ATTACH;FMTTYPE=image/png:https://www.quincystakeyouth.com/wp-content/uploads/2023/02/Artboard-8temple.png
END:VEVENT
BEGIN:VEVENT
DTSTART;TZID=America/Los_Angeles:20231021T093000
DTEND;TZID=America/Los_Angeles:20231021T223000
DTSTAMP:20260423T102433
CREATED:20230221T182946Z
LAST-MODIFIED:20231021T053626Z
UID:10000018-1697880600-1697927400@www.quincystakeyouth.com
SUMMARY:9:30am Session / Canceled
DESCRIPTION:This session has been canceled… but the 1:00 session is still open. Please feel free to attend that session!
URL:https://www.quincystakeyouth.com/event/stake-temple-trip-youth-baptisms-2/
LOCATION:Reno Nevada Temple\, 2000 Beaumont Pkwy\, Reno\, NV\, 89523\, United States
CATEGORIES:Stake Youth,Temple Trip
ATTACH;FMTTYPE=image/png:https://www.quincystakeyouth.com/wp-content/uploads/2023/02/Artboard-8temple.png
END:VEVENT
BEGIN:VEVENT
DTSTART;VALUE=DATE:20230916
DTEND;VALUE=DATE:20230917
DTSTAMP:20260423T102433
CREATED:20230623T163740Z
LAST-MODIFIED:20230907T145740Z
UID:10000032-1694822400-1694908799@www.quincystakeyouth.com
SUMMARY:CANCELED - Stake Youth Activity / Greenville Barn Night
DESCRIPTION:This activity needed to be canceled for 2023… we will see you at the next Stake Youth Activity!
URL:https://www.quincystakeyouth.com/event/stake-youth-activity-greenville-barn-night/
LOCATION:NV
CATEGORIES:Stake Youth,Stake Youth Activity
ATTACH;FMTTYPE=image/png:https://www.quincystakeyouth.com/wp-content/uploads/2023/02/Artboard-5barn.png
END:VEVENT
BEGIN:VEVENT
DTSTART;TZID=America/Los_Angeles:20230827T160000
DTEND;TZID=America/Los_Angeles:20230827T190000
DTSTAMP:20260423T102433
CREATED:20230222T005117Z
LAST-MODIFIED:20230731T192448Z
UID:10000025-1693152000-1693162800@www.quincystakeyouth.com
SUMMARY:Standards Night & Dinner / What's in Your Survival Kit?
DESCRIPTION:Don’t miss our 2023 Standards Night Fireside! \nWho is invited to attend!?\n• All Youth turning 12+\n• Youth Leaders & Parents are invited to attend \nActivity Schedule of Events:\n• Awesome Speakers\n• Interactive Classes\n• Parent Seminary Information Meeting\n• Dinner will be served! \nWhat should I bring?\n• For the Strength of Youth Booklet\n• Saturday’s Warrior Notebook or something to take notes \nWhat topics will be discussed?\nWe want to hear from you! Let us know what questions you have about the Standards or the new For the Strength of Youth Guidebook. Submit your questions by August 13th: Youth Question Submission Form
URL:https://www.quincystakeyouth.com/event/stake-youth-fireside-3/
LOCATION:Susanville Church Building\, 905 Richmond Road\, Susanville\, CA\, 96130
CATEGORIES:Youth Fireside
ATTACH;FMTTYPE=image/png:https://www.quincystakeyouth.com/wp-content/uploads/2023/02/Artboard-7standards-night-2023-e1714345015179.png
END:VEVENT
BEGIN:VEVENT
DTSTART;TZID=America/Los_Angeles:20230819T143000
DTEND;TZID=America/Los_Angeles:20230819T160000
DTSTAMP:20260423T102433
CREATED:20230517T202619Z
LAST-MODIFIED:20230817T185912Z
UID:10000030-1692455400-1692460800@www.quincystakeyouth.com
SUMMARY:2:30pm Session - CANCELED / Stake Temple Trip Youth Baptisms
DESCRIPTION:All wards in the Quincy Stake are invited to attend the Stake Temple Trip for Youth Baptisms. You now have the ability to choose your session time! Please signup below to be added to the list for this session. Feel free to invite and coordinate attending a specific session time with your leaders\, family or friends within your ward or from other wards within the Stake. Please plan to arrive 30 minutes early to the temple session. \nThis session has been canceled. Youth who originally signed up will now be attending the “Feather River Temple Youth Open House Event” in Yuba City. Learn more about the event HERE!
URL:https://www.quincystakeyouth.com/event/230pm-session-stake-temple-trip-youth-baptisms/
LOCATION:Reno Nevada Temple\, 2000 Beaumont Pkwy\, Reno\, NV\, 89523\, United States
CATEGORIES:Stake Youth,Temple Trip
ATTACH;FMTTYPE=image/png:https://www.quincystakeyouth.com/wp-content/uploads/2023/02/Artboard-8temple.png
END:VEVENT
BEGIN:VEVENT
DTSTART;TZID=America/Los_Angeles:20230819T093000
DTEND;TZID=America/Los_Angeles:20230819T110000
DTSTAMP:20260423T102433
CREATED:20230517T202349Z
LAST-MODIFIED:20230817T173833Z
UID:10000029-1692437400-1692442800@www.quincystakeyouth.com
SUMMARY:9:30am Session - CANCELED / Stake Temple Trip Youth Baptisms
DESCRIPTION:All wards in the Quincy Stake are invited to attend the Stake Temple Trip for Youth Baptisms. You now have the ability to choose your session time! Please signup below to be added to the list for this session. Feel free to invite and coordinate attending a specific session time with your leaders\, family or friends within your ward or from other wards within the Stake. Please plan to arrive 30 minutes early to the temple session. \nWe did not receive enough signups for this session\, so it has been canceled.
URL:https://www.quincystakeyouth.com/event/930am-session-stake-temple-trip-youth-baptisms/
LOCATION:Reno Nevada Temple\, 2000 Beaumont Pkwy\, Reno\, NV\, 89523\, United States
CATEGORIES:Stake Youth,Temple Trip
ATTACH;FMTTYPE=image/png:https://www.quincystakeyouth.com/wp-content/uploads/2023/02/Artboard-8temple.png
END:VEVENT
BEGIN:VEVENT
DTSTART;TZID=America/Los_Angeles:20230819T090000
DTEND;TZID=America/Los_Angeles:20230819T150000
DTSTAMP:20260423T102433
CREATED:20230817T182555Z
LAST-MODIFIED:20230817T185249Z
UID:10000033-1692435600-1692457200@www.quincystakeyouth.com
SUMMARY:Feather River Temple / Open House Youth Event
DESCRIPTION:Enjoy an opportunity for youth to tour before the public at our “Youth First Look Temple Tour”! Come participate in a temple tour\, lunch\, workshops\, and a devotional! All youth turning 12 -18 are invited to attend. \n**DRESS FOR THE DAY IS SLACKS OR DRESSES FOR YOUNG WOMEN & SHIRTS & TIES FOR THE YOUNG MEN** \nEVENT SCHEDULE:\n• 9:00am – Youth arrive at the new Yuba City Stake Center (1470 Butte House Rd)\n• 9:20-10:10am – Feather River Temple tours for the youth\n• 10:20-11:35am – Workshops and games for the youth at the Sutter County Veteran’s Hall (youth will walk to the Veteran’s Hall)\n• 11:50-12:35pm – Youth Devotional at the Veteran’s Hall\n• 12:45-1:30pm – Lunch\, workshops and games for the youth at the Veteran’s Hall\n• 1:30-2:30pm – Temple tours available for families of youth and adult leaders
URL:https://www.quincystakeyouth.com/event/feather-river-youth-temple-tour/
LOCATION:Yuba City Stake Center\, 1470 Butte House Road\, Yuba City\, CA\, 95993\, United States
CATEGORIES:Stake Youth,Stake Youth Activity
ATTACH;FMTTYPE=image/jpeg:https://www.quincystakeyouth.com/wp-content/uploads/2023/08/e119971cadd1d504c6eb2b00d572a04e75209905-scaled.jpeg
END:VEVENT
BEGIN:VEVENT
DTSTART;TZID=America/Los_Angeles:20230715T180000
DTEND;TZID=America/Los_Angeles:20230715T210000
DTSTAMP:20260423T102433
CREATED:20230221T224011Z
LAST-MODIFIED:20230623T165236Z
UID:10000020-1689444000-1689454800@www.quincystakeyouth.com
SUMMARY:CANCELED & POSTPONED / Greenville Barn Night!
DESCRIPTION:We will no longer have a Stake Youth Activity on July 15th… Enjoy Summer with your family! This event will be postponed until September 16th. Mark your calendars!
URL:https://www.quincystakeyouth.com/event/stake-youth-activity-2/
LOCATION:Meyers Family Ranch\, 2448 North Valley Rd\, Greenville\, CA\, 95947\, United States
CATEGORIES:Stake Youth,Stake Youth Activity
ATTACH;FMTTYPE=image/png:https://www.quincystakeyouth.com/wp-content/uploads/2023/06/Artboard-3HEADER.png
END:VEVENT
BEGIN:VEVENT
DTSTART;TZID=America/Los_Angeles:20230715T150000
DTEND;TZID=America/Los_Angeles:20230715T170000
DTSTAMP:20260423T102433
CREATED:20230619T231203Z
LAST-MODIFIED:20230623T165158Z
UID:10000031-1689433200-1689440400@www.quincystakeyouth.com
SUMMARY:CANCELED / Stake YW Pre-Camp Activity
DESCRIPTION:We will no longer have a YW pre-camp activity. Enjoy your summer with family! We will see you at camp!
URL:https://www.quincystakeyouth.com/event/stake-young-women-pre-camp-activity/
LOCATION:Greenville Church Building\, 271 Hideaway Rd.\, Greenville\, CA\, 95947\, United States
CATEGORIES:Stake Youth,Stake Youth Activity
ATTACH;FMTTYPE=image/png:https://www.quincystakeyouth.com/wp-content/uploads/2023/06/Artboard-2HEADER.png
END:VEVENT
BEGIN:VEVENT
DTSTART;TZID=America/Los_Angeles:20230629T110000
DTEND;TZID=America/Los_Angeles:20230701T130000
DTSTAMP:20260423T102433
CREATED:20230201T083406Z
LAST-MODIFIED:20230621T224013Z
UID:10000013-1688036400-1688216400@www.quincystakeyouth.com
SUMMARY:Pioneer Trek
DESCRIPTION:This year Trek will be held in the Greenville area. You can find the exact drop-off & pickup locations\, packing lists and more below! \nEmergency Contact During Trek:\n*No cell phones are allowed on Trek. Here is a list of emergency numbers if you need to get ahold of your child:\nGena Ellena – (530) 249-5458\nTara Bias – (661) 406-9814\nMary Ann Meyers – (775) 741-4858
URL:https://www.quincystakeyouth.com/event/trek/
LOCATION:NV
CATEGORIES:Youth Conference
ATTACH;FMTTYPE=image/png:https://www.quincystakeyouth.com/wp-content/uploads/2023/01/Artboard-1-copy-3event-headers.png
END:VEVENT
BEGIN:VEVENT
DTSTART;TZID=America/Los_Angeles:20230528T150000
DTEND;TZID=America/Los_Angeles:20230528T180000
DTSTAMP:20260423T102433
CREATED:20230222T003717Z
LAST-MODIFIED:20230518T175652Z
UID:10000024-1685286000-1685296800@www.quincystakeyouth.com
SUMMARY:Stake Youth Fireside & Dinner / Influencers for Christ
DESCRIPTION:You don’t want to miss this Stake Youth Fireside! Church Dress. \nWHO IS INVITED TO ATTEND!?\n• All Youth turning 12+\n• Parents or Guardians of Youth\n• At least one Representative from each Ward’s Bishopric\n• At least one Representative from each Wards Young Women’s Presidency \nFIRESIDE SCHEDULE OF EVENTS:\n• Motivational Fireside Speaker\n• Engaging Youth Classes\n>> Are you ready to hear about the awesome Stake Youth Leadership Teams that will begin this Fall!?\n>> Sneak peak at a few positions available to apply to for the 23-24 school year:\n>> Influencers (Personality on Camera)\, Videographer\, Graphic Designer\, Sound & Lighting\, Set Designer\, Journalist\, Photographer\, Activity Planner\, Music Team & SO many more! \n• Parent & Leader Tech Class\n>> What tools are available to help monitor devices?\n>> What positive apps for youth exist and explore what they do!\n>> ADULTS PLEASE FILL OUT THIS SURVEY REGARDING THE CLASS \n• Dinner will be served
URL:https://www.quincystakeyouth.com/event/stake-youth-fireside-2/
LOCATION:Susanville Church Building\, 905 Richmond Road\, Susanville\, CA\, 96130
CATEGORIES:Youth Fireside
ATTACH;FMTTYPE=image/png:https://www.quincystakeyouth.com/wp-content/uploads/2023/02/Artboard-2HEADER.png
ORGANIZER;CN="Stake Youth Presidency's":MAILTO:quincystakeyouth@gmail.com
END:VEVENT
BEGIN:VEVENT
DTSTART;TZID=America/Los_Angeles:20230506T143000
DTEND;TZID=America/Los_Angeles:20230506T160000
DTSTAMP:20260423T102433
CREATED:20230221T181939Z
LAST-MODIFIED:20230517T205319Z
UID:10000016-1683383400-1683388800@www.quincystakeyouth.com
SUMMARY:2:30pm Session / Stake Temple Trip Youth Baptisms
DESCRIPTION:All wards in the Quincy Stake are invited to attend the Stake Temple Trip for Youth Baptisms. You now have the ability to choose your session time! Please signup below to be added to the list for this session. Feel free to invite and coordinate attending a specific session time with your leaders\, family or friends within your ward or from other wards within the Stake. Please plan to arrive 30 minutes early to the temple session. \nSignups will remain open for this session until the day of!
URL:https://www.quincystakeyouth.com/event/temple-youth-baptisms-230pm-session/
LOCATION:Reno Nevada Temple\, 2000 Beaumont Pkwy\, Reno\, NV\, 89523\, United States
CATEGORIES:Stake Youth,Temple Trip
ATTACH;FMTTYPE=image/png:https://www.quincystakeyouth.com/wp-content/uploads/2023/02/Artboard-8temple.png
END:VEVENT
BEGIN:VEVENT
DTSTART;TZID=America/Los_Angeles:20230506T130000
DTEND;TZID=America/Los_Angeles:20230506T143000
DTSTAMP:20260423T102433
CREATED:20230221T181832Z
LAST-MODIFIED:20230501T041551Z
UID:10000015-1683378000-1683383400@www.quincystakeyouth.com
SUMMARY:1:00pm Session / Canceled
DESCRIPTION:This session is no longer available\, please sign up for the 8:00 or 2:30 session times this day.
URL:https://www.quincystakeyouth.com/event/temple-youth-baptisms-100pm-session/
LOCATION:Reno Nevada Temple\, 2000 Beaumont Pkwy\, Reno\, NV\, 89523\, United States
CATEGORIES:Stake Youth,Temple Trip
ATTACH;FMTTYPE=image/png:https://www.quincystakeyouth.com/wp-content/uploads/2023/02/Artboard-8temple.png
END:VEVENT
BEGIN:VEVENT
DTSTART;TZID=America/Los_Angeles:20230506T080000
DTEND;TZID=America/Los_Angeles:20230506T093000
DTSTAMP:20260423T102433
CREATED:20230208T003950Z
LAST-MODIFIED:20230501T041706Z
UID:10000014-1683360000-1683365400@www.quincystakeyouth.com
SUMMARY:8:00am Session / Stake Temple Trip Youth Baptisms
DESCRIPTION:All wards in the Quincy Stake are invited to attend the Stake Temple Trip for Youth Baptisms. You now have the ability to choose your session time! Please signup below to be added to the list for this session. Feel free to invite and coordinate attending a specific session time with your leaders\, family or friends within your ward or from other wards within the Stake. Please plan to arrive 30 minutes early to the temple session. \nSignups will remain open for this session until the day of!
URL:https://www.quincystakeyouth.com/event/temple-youth-baptisms/
LOCATION:Reno Nevada Temple\, 2000 Beaumont Pkwy\, Reno\, NV\, 89523\, United States
CATEGORIES:Stake Youth,Temple Trip
ATTACH;FMTTYPE=image/png:https://www.quincystakeyouth.com/wp-content/uploads/2023/02/Artboard-8temple.png
END:VEVENT
BEGIN:VEVENT
DTSTART;TZID=America/Los_Angeles:20230422T130000
DTEND;TZID=America/Los_Angeles:20230422T190000
DTSTAMP:20260423T102433
CREATED:20230221T223356Z
LAST-MODIFIED:20230330T195014Z
UID:10000019-1682168400-1682190000@www.quincystakeyouth.com
SUMMARY:Stake Youth Activity / Pioneer Pizza Party
DESCRIPTION:You don’t want to miss this Stake Youth Activity! Casual Dress. \nWho is invited to attend!?\n• All Youth turning 12+\n• Youth Leaders or Parents are welcome\n>>> Adults please RSVP below if you plan to stay & we will contact you with an assignment \nActivity Schedule of Events:\n• Trek Information\n>>> Fun Alternate Activity for youth not attending Trek\n• Pioneer Fashion Show\n• Group Rotation Activities\n• Handcart Races & Games\n• Swing Dance Instruction\n• Pizza Party & Music!\n• Pioneer Movie Night & Popcorn Bar \nWhat should I bring?\n• Optional: For movie night you could bring a bean bag\, camping chair\, pillow or blanket.
URL:https://www.quincystakeyouth.com/event/stake-youth-activity/
LOCATION:Susanville Church Building\, 905 Richmond Road\, Susanville\, CA\, 96130
CATEGORIES:Stake Youth Activity
ATTACH;FMTTYPE=image/png:https://www.quincystakeyouth.com/wp-content/uploads/2023/02/Artboard-36-copy-3Pioneer-Pizza-Party.png
END:VEVENT
BEGIN:VEVENT
DTSTART;TZID=America/Los_Angeles:20230326T160000
DTEND;TZID=America/Los_Angeles:20230326T190000
DTSTAMP:20260423T102433
CREATED:20230222T003500Z
LAST-MODIFIED:20230305T234310Z
UID:10000023-1679846400-1679857200@www.quincystakeyouth.com
SUMMARY:Stake Youth Fireside & Dinner / Saturday's Warrior
DESCRIPTION:You don’t want to miss this Stake Youth Fireside! Church Dress. \nWho is invited to attend!?\n• All Youth turning 12+\n• Parents or Guardians of Youth\n• At least one Representative from each Ward’s Bishopric\n• At least one Representative from each Wards Young Women’s Presidency \nFireside Schedule of Events:\n• Motivational Speakers\n• Engaging Activities\n• Upcoming Stake Event Information\n• Printed Flyers/Calendars will be available\n• Dinner will be served!
URL:https://www.quincystakeyouth.com/event/stake-youth-fireside/
LOCATION:Susanville Church Building\, 905 Richmond Road\, Susanville\, CA\, 96130
CATEGORIES:Youth Fireside
ATTACH;FMTTYPE=image/png:https://www.quincystakeyouth.com/wp-content/uploads/2023/02/Artboard-2photos-1.png
END:VEVENT
END:VCALENDAR