BEGIN:VCALENDAR
VERSION:2.0
PRODID:-//Quincy Stake Youth - ECPv6.15.20//NONSGML v1.0//EN
CALSCALE:GREGORIAN
METHOD:PUBLISH
X-WR-CALNAME:Quincy Stake Youth
X-ORIGINAL-URL:https://www.quincystakeyouth.com
X-WR-CALDESC:Events for Quincy Stake Youth
REFRESH-INTERVAL;VALUE=DURATION:PT1H
X-Robots-Tag:noindex
X-PUBLISHED-TTL:PT1H
BEGIN:VTIMEZONE
TZID:America/Los_Angeles
BEGIN:DAYLIGHT
TZOFFSETFROM:-0800
TZOFFSETTO:-0700
TZNAME:PDT
DTSTART:20240310T100000
END:DAYLIGHT
BEGIN:STANDARD
TZOFFSETFROM:-0700
TZOFFSETTO:-0800
TZNAME:PST
DTSTART:20241103T090000
END:STANDARD
BEGIN:DAYLIGHT
TZOFFSETFROM:-0800
TZOFFSETTO:-0700
TZNAME:PDT
DTSTART:20250309T100000
END:DAYLIGHT
BEGIN:STANDARD
TZOFFSETFROM:-0700
TZOFFSETTO:-0800
TZNAME:PST
DTSTART:20251102T090000
END:STANDARD
BEGIN:DAYLIGHT
TZOFFSETFROM:-0800
TZOFFSETTO:-0700
TZNAME:PDT
DTSTART:20260308T100000
END:DAYLIGHT
BEGIN:STANDARD
TZOFFSETFROM:-0700
TZOFFSETTO:-0800
TZNAME:PST
DTSTART:20261101T090000
END:STANDARD
END:VTIMEZONE
BEGIN:VEVENT
DTSTART;VALUE=DATE:20250905
DTEND;VALUE=DATE:20250907
DTSTAMP:20260423T162650
CREATED:20250602T044947Z
LAST-MODIFIED:20250810T235954Z
UID:10000092-1757030400-1757203199@www.quincystakeyouth.com
SUMMARY:Daddy & Daughter Campout
DESCRIPTION:The Susanville Ward will be hosting a Stake Daddy & Daughter Campout this summer! This campout is for Dads and their daughters that are currently in Young Women’s (11-18). Mark your calendars for September 5-6\, 2025.  Arrive Friday night anytime after 5:00pm. Bring your own dinner. Breakfast will be provided. Packing List and information below. \nLocation Information: Almanor Campground at Lake Almanor CLICK HERE for directions \nPlease RSVP to Sariah Hathaway (530) 339-1942\nOr RSVP Below…
URL:https://www.quincystakeyouth.com/event/daddy-daughter-campout/
LOCATION:CA
CATEGORIES:Stake Youth Activity
ATTACH;FMTTYPE=image/jpeg:https://www.quincystakeyouth.com/wp-content/uploads/2025/06/daddy-daughter-scaled-e1748840404747.jpeg
END:VEVENT
END:VCALENDAR