BEGIN:VCALENDAR
VERSION:2.0
PRODID:-//Quincy Stake Youth - ECPv6.15.20//NONSGML v1.0//EN
CALSCALE:GREGORIAN
METHOD:PUBLISH
X-ORIGINAL-URL:https://www.quincystakeyouth.com
X-WR-CALDESC:Events for Quincy Stake Youth
REFRESH-INTERVAL;VALUE=DURATION:PT1H
X-Robots-Tag:noindex
X-PUBLISHED-TTL:PT1H
BEGIN:VTIMEZONE
TZID:America/Los_Angeles
BEGIN:DAYLIGHT
TZOFFSETFROM:-0800
TZOFFSETTO:-0700
TZNAME:PDT
DTSTART:20250309T100000
END:DAYLIGHT
BEGIN:STANDARD
TZOFFSETFROM:-0700
TZOFFSETTO:-0800
TZNAME:PST
DTSTART:20251102T090000
END:STANDARD
BEGIN:DAYLIGHT
TZOFFSETFROM:-0800
TZOFFSETTO:-0700
TZNAME:PDT
DTSTART:20260308T100000
END:DAYLIGHT
BEGIN:STANDARD
TZOFFSETFROM:-0700
TZOFFSETTO:-0800
TZNAME:PST
DTSTART:20261101T090000
END:STANDARD
BEGIN:DAYLIGHT
TZOFFSETFROM:-0800
TZOFFSETTO:-0700
TZNAME:PDT
DTSTART:20270314T100000
END:DAYLIGHT
BEGIN:STANDARD
TZOFFSETFROM:-0700
TZOFFSETTO:-0800
TZNAME:PST
DTSTART:20271107T090000
END:STANDARD
END:VTIMEZONE
BEGIN:VEVENT
DTSTART;VALUE=DATE:20260212
DTEND;VALUE=DATE:20260312
DTSTAMP:20260423T151819
CREATED:20260107T004331Z
LAST-MODIFIED:20260130T062527Z
UID:10000102-1770854400-1773273599@www.quincystakeyouth.com
SUMMARY:FSY Registration Day
DESCRIPTION:All youth turning 14 -18 in 2026 are invited to attend our Stake session of FSY this year! It will be June 22nd – 27th at Sonoma State University in Rohnert Park. We hope and encourage everyone who is eligible to make this a priority in their schedules and help the youth register to go. This fun testimony building experience is not something any youth should miss! Youth must sign into their own personal church account to register.\nGo to FSY Registration >> \n*If you plan to attend FSY you need to Register between Feb 12th and March 11th. After March 11th\, your chances of getting a spot will be low.
URL:https://www.quincystakeyouth.com/event/fsy-registration-day/
CATEGORIES:FSY
ATTACH;FMTTYPE=image/png:https://www.quincystakeyouth.com/wp-content/uploads/2026/01/Artboard-2fsy.png
END:VEVENT
BEGIN:VEVENT
DTSTART;TZID=America/Los_Angeles:20260221T133000
DTEND;TZID=America/Los_Angeles:20260221T160000
DTSTAMP:20260423T151819
CREATED:20260106T220735Z
LAST-MODIFIED:20260107T182604Z
UID:10000099-1771680600-1771689600@www.quincystakeyouth.com
SUMMARY:1:30pm Session / Stake Temple Trip Youth Baptisms
DESCRIPTION:All wards in the Quincy Stake are invited to attend the Stake Temple Trip for Youth Baptisms. Please signup below to be added to the list for this session. We have reserved extra time which will allow up to 32 individuals to perform baptisms together! Please plan to arrive 30 minutes early to the temple session.
URL:https://www.quincystakeyouth.com/event/130pm-session-stake-temple-trip-youth-baptisms/
LOCATION:Reno Nevada Temple\, 2000 Beaumont Pkwy\, Reno\, NV\, 89523\, United States
CATEGORIES:Stake Youth,Temple Trip
ATTACH;FMTTYPE=image/png:https://www.quincystakeyouth.com/wp-content/uploads/2024/01/Artboard-2-copyreno-temple.png
END:VEVENT
BEGIN:VEVENT
DTSTART;TZID=America/Los_Angeles:20260221T190000
DTEND;TZID=America/Los_Angeles:20260221T220000
DTSTAMP:20260423T151819
CREATED:20260106T222425Z
LAST-MODIFIED:20260130T064227Z
UID:10000100-1771700400-1771711200@www.quincystakeyouth.com
SUMMARY:Masked-Out Ball / Regional Dance
DESCRIPTION:Dress to Impress\, modest & fun! All youth turning 14+ in 2026 are invited to attend. There will be an eye mask contest. Eye Masks ONLY (No Full Masks Permitted). Prizes will be given out for the following categories: Silliest\, Colorful\, Frilly\, Dynamic Duo\, Terrific Trio\, Fantastic 4 or more.
URL:https://www.quincystakeyouth.com/event/regional-youth-dance-12/
LOCATION:Rock Church Building\, 2955 Rock Blvd.\, Sparks\, NV\, 89431\, United States
CATEGORIES:Dance,Regional Youth
ATTACH;FMTTYPE=image/jpeg:https://www.quincystakeyouth.com/wp-content/uploads/2026/01/AdobeStock_480731621-scaled-e1769754887924.jpeg
END:VEVENT
BEGIN:VEVENT
DTSTART;TZID=America/Los_Angeles:20260314T193000
DTEND;TZID=America/Los_Angeles:20260314T223000
DTSTAMP:20260423T151819
CREATED:20260301T190059Z
LAST-MODIFIED:20260301T190059Z
UID:10000119-1773516600-1773527400@www.quincystakeyouth.com
SUMMARY:2026 Mormal Spring Formal / A Moonlit Forest
DESCRIPTION:All youth 16+ are invited to the Spring Formal Regional Dance! Take a date or friends to a Moonlit Forest!
URL:https://www.quincystakeyouth.com/event/2026-mormal-spring-formal-a-moonlit-forest/
LOCATION:Rock Church Building\, 2955 Rock Blvd.\, Sparks\, NV\, 89431\, United States
CATEGORIES:Dance,Regional Youth
ATTACH;FMTTYPE=image/png:https://www.quincystakeyouth.com/wp-content/uploads/2023/01/Artboard-1-copy-7event-headers.png
END:VEVENT
BEGIN:VEVENT
DTSTART;TZID=America/Los_Angeles:20260315T170000
DTEND;TZID=America/Los_Angeles:20260315T190000
DTSTAMP:20260423T151819
CREATED:20260117T015357Z
LAST-MODIFIED:20260117T020713Z
UID:10000110-1773594000-1773601200@www.quincystakeyouth.com
SUMMARY:"The Chosen" Teen Movie Night
DESCRIPTION:Season 4 – Episode 2 Join us for an incredible experience at ‘The Chosen’ Teen Movie Night\, a free community youth event! Immerse yourself in the captivating story of Jesus Christ and embrace the power of faith. This is not just a movie night\, but a chance to connect with other youth in our community and strengthen your spiritual journey together throughout the year. Don’t miss out on the opportunity to be part of this interfaith event. Bring your friends and let’s make 2026 one to be remembered.
URL:https://www.quincystakeyouth.com/event/the-chosen-teen-movie-night-21/
LOCATION:The Church of Jesus Christ of Latter-Day Saints\, 905 Richmond Road\, Susanville\, CA\, 96130
CATEGORIES:Community Youth Event
ATTACH;FMTTYPE=image/png:https://www.quincystakeyouth.com/wp-content/uploads/2024/01/Artboard-6-copythe-chosen-teen-movie-night-susanville-california-christian-watch-party.png
END:VEVENT
BEGIN:VEVENT
DTSTART;TZID=America/Los_Angeles:20260418T200000
DTEND;TZID=America/Los_Angeles:20260418T223000
DTSTAMP:20260423T151819
CREATED:20260406T032514Z
LAST-MODIFIED:20260406T033342Z
UID:10000120-1776542400-1776551400@www.quincystakeyouth.com
SUMMARY:Olympic Night Regional Dance (Date changed from 17th to 18th)
DESCRIPTION:Go for the gold! All youth turning 14+ in 2026 are invited to a Regional Dance. Feel free to represent your Olympic team or sport! Activities and prizes… come prepared to play!
URL:https://www.quincystakeyouth.com/event/olympic-night-regional-dance/
LOCATION:Golconda Church Building\, 1095 Golconda Dr.\, Reno\, NV\, 89509\, United States
CATEGORIES:Dance,Regional Youth
ATTACH;FMTTYPE=image/jpeg:https://www.quincystakeyouth.com/wp-content/uploads/2026/04/IMG_20260405_201204-1-e1775445885854.jpg
END:VEVENT
BEGIN:VEVENT
DTSTART;TZID=America/Los_Angeles:20260419T170000
DTEND;TZID=America/Los_Angeles:20260419T190000
DTSTAMP:20260423T151819
CREATED:20260117T021456Z
LAST-MODIFIED:20260406T034530Z
UID:10000111-1776618000-1776625200@www.quincystakeyouth.com
SUMMARY:"The Chosen" Teen Movie Night (Date Changed from 12th to 19th)
DESCRIPTION:Season 4 – Episode 2 Join us for an incredible experience at ‘The Chosen’ Teen Movie Night\, a free community youth event! Immerse yourself in the captivating story of Jesus Christ and embrace the power of faith. This is not just a movie night\, but a chance to connect with other youth in our community and strengthen your spiritual journey together throughout the year. Don’t miss out on the opportunity to be part of this interfaith event. Bring your friends and let’s make 2026 one to be remembered.
URL:https://www.quincystakeyouth.com/event/the-chosen-teen-movie-night-22/
LOCATION:The Church of Jesus Christ of Latter-Day Saints\, 905 Richmond Road\, Susanville\, CA\, 96130
CATEGORIES:Community Youth Event
ATTACH;FMTTYPE=image/png:https://www.quincystakeyouth.com/wp-content/uploads/2024/01/Artboard-6-copy-3the-chosen-teen-movie-night-susanville-california-christian-watch-party.png
END:VEVENT
BEGIN:VEVENT
DTSTART;TZID=America/Los_Angeles:20260424T200000
DTEND;TZID=America/Los_Angeles:20260424T230000
DTSTAMP:20260423T151819
CREATED:20260406T035729Z
LAST-MODIFIED:20260406T172854Z
UID:10000121-1777060800-1777071600@www.quincystakeyouth.com
SUMMARY:Christian Teen Dance / Soda Shop Hop
DESCRIPTION:We are SO excited to host the very first “Christian Teen Dance” for our local communities in the Susanville and surrounding areas! All teens turning 14-19 in 2026 are invited to attend this dance. A committee made up of teens from various Christian churches in the region have been working hard to plan a great experience. Come as your are and ready to enjoy a wholesome atmosphere with music\, dancing\, food\, friends and fun!
URL:https://www.quincystakeyouth.com/event/christian-teen-dance-soda-shop-hop-susanville/
LOCATION:905 Richmond Road Susanville\, California\, 905 Richmond Road\, Susanville\, CA\, 96130
CATEGORIES:Stake Youth,Stake Youth Activity
ATTACH;FMTTYPE=image/jpeg:https://www.quincystakeyouth.com/wp-content/uploads/2026/04/AdobeStock_989507076-scaled.jpeg
END:VEVENT
BEGIN:VEVENT
DTSTART;VALUE=DATE:20260502
DTEND;VALUE=DATE:20260503
DTSTAMP:20260423T151819
CREATED:20260406T050733Z
LAST-MODIFIED:20260406T050733Z
UID:10000122-1777680000-1777766399@www.quincystakeyouth.com
SUMMARY:Regional Dance
DESCRIPTION:Details Coming Soon…
URL:https://www.quincystakeyouth.com/event/regional-dance/
CATEGORIES:Dance,Regional Youth
ATTACH;FMTTYPE=image/png:https://www.quincystakeyouth.com/wp-content/uploads/2023/01/Artboard-1-copy-6event-headers.png
END:VEVENT
BEGIN:VEVENT
DTSTART;TZID=America/Los_Angeles:20260502T133000
DTEND;TZID=America/Los_Angeles:20260502T160000
DTSTAMP:20260423T151819
CREATED:20260117T004801Z
LAST-MODIFIED:20260406T050028Z
UID:10000106-1777728600-1777737600@www.quincystakeyouth.com
SUMMARY:Stake Temple Trip Youth Baptisms / 1:30 Session
DESCRIPTION:All wards in the Quincy Stake are invited to attend the Stake Temple Trip for Youth Baptisms. Please signup below to be added to the list for this session. We have reserved extra time which will allow up to 32 individuals to perform baptisms together! Please plan to arrive 30 minutes early to the temple session. If we get less than 16 signups a week prior to this session we will cancel the extra time slot.
URL:https://www.quincystakeyouth.com/event/stake-temple-trip-youth-baptisms/
LOCATION:Reno Nevada Temple\, 2000 Beaumont Pkwy\, Reno\, NV\, 89523\, United States
CATEGORIES:Stake Youth,Temple Trip
ATTACH;FMTTYPE=image/png:https://www.quincystakeyouth.com/wp-content/uploads/2024/01/Artboard-2-copyreno-temple.png
END:VEVENT
BEGIN:VEVENT
DTSTART;TZID=America/Los_Angeles:20260503T170000
DTEND;TZID=America/Los_Angeles:20260503T190000
DTSTAMP:20260423T151819
CREATED:20260117T021735Z
LAST-MODIFIED:20260117T021735Z
UID:10000112-1777827600-1777834800@www.quincystakeyouth.com
SUMMARY:"The Chosen" Teen Movie Night
DESCRIPTION:Season 4 – Episode 3 Join us for an incredible experience at ‘The Chosen’ Teen Movie Night\, a free community youth event! Immerse yourself in the captivating story of Jesus Christ and embrace the power of faith. This is not just a movie night\, but a chance to connect with other youth in our community and strengthen your spiritual journey together throughout the year. Don’t miss out on the opportunity to be part of this interfaith event. Bring your friends and let’s make 2026 one to be remembered.
URL:https://www.quincystakeyouth.com/event/the-chosen-teen-movie-night-23/
LOCATION:The Church of Jesus Christ of Latter-Day Saints\, 905 Richmond Road\, Susanville\, CA\, 96130
CATEGORIES:Community Youth Event
ATTACH;FMTTYPE=image/png:https://www.quincystakeyouth.com/wp-content/uploads/2024/01/Artboard-6-copy-4the-chosen-teen-movie-night-susanville-california-christian-watch-party.png
END:VEVENT
BEGIN:VEVENT
DTSTART;TZID=America/Los_Angeles:20260614T170000
DTEND;TZID=America/Los_Angeles:20260614T190000
DTSTAMP:20260423T151819
CREATED:20260117T021914Z
LAST-MODIFIED:20260130T073506Z
UID:10000113-1781456400-1781463600@www.quincystakeyouth.com
SUMMARY:"The Chosen" Teen Movie Night
DESCRIPTION:Season 4 – Episode 5 Join us for an incredible experience at ‘The Chosen’ Teen Movie Night\, a free community youth event! Immerse yourself in the captivating story of Jesus Christ and embrace the power of faith. This is not just a movie night\, but a chance to connect with other youth in our community and strengthen your spiritual journey together throughout the year. Don’t miss out on the opportunity to be part of this interfaith event. Bring your friends and let’s make 2026 one to be remembered.
URL:https://www.quincystakeyouth.com/event/the-chosen-teen-movie-night-24/
LOCATION:The Church of Jesus Christ of Latter-Day Saints\, 905 Richmond Road\, Susanville\, CA\, 96130
CATEGORIES:Community Youth Event
ATTACH;FMTTYPE=image/png:https://www.quincystakeyouth.com/wp-content/uploads/2024/01/Artboard-6-copy-6the-chosen-teen-movie-night-susanville-california-christian-watch-party.png
END:VEVENT
BEGIN:VEVENT
DTSTART;TZID=America/Los_Angeles:20260719T170000
DTEND;TZID=America/Los_Angeles:20260719T190000
DTSTAMP:20260423T151819
CREATED:20260117T022129Z
LAST-MODIFIED:20260117T022129Z
UID:10000114-1784480400-1784487600@www.quincystakeyouth.com
SUMMARY:"The Chosen" Teen Movie Night
DESCRIPTION:Season 4 – Episode 6 Join us for an incredible experience at ‘The Chosen’ Teen Movie Night\, a free community youth event! Immerse yourself in the captivating story of Jesus Christ and embrace the power of faith. This is not just a movie night\, but a chance to connect with other youth in our community and strengthen your spiritual journey together throughout the year. Don’t miss out on the opportunity to be part of this interfaith event. Bring your friends and let’s make 2026 one to be remembered.
URL:https://www.quincystakeyouth.com/event/the-chosen-teen-movie-night-25/
LOCATION:The Church of Jesus Christ of Latter-Day Saints\, 905 Richmond Road\, Susanville\, CA\, 96130
CATEGORIES:Community Youth Event
ATTACH;FMTTYPE=image/png:https://www.quincystakeyouth.com/wp-content/uploads/2024/01/Artboard-6-copy-2the-chosen-teen-movie-night-susanville-california-christian-watch-party.png
END:VEVENT
BEGIN:VEVENT
DTSTART;VALUE=DATE:20260803
DTEND;VALUE=DATE:20260807
DTSTAMP:20260423T151819
CREATED:20260116T182312Z
LAST-MODIFIED:20260116T204010Z
UID:10000103-1785715200-1786060799@www.quincystakeyouth.com
SUMMARY:Young Women's Camp
DESCRIPTION:Young Women’s Camp is for all Young Women turning 12 – 18 in 2026. Camp will be held at Buck’s Lake Camp Liahona. \nAll Young Women & Invited Camp Leaders need to fill out:\n– Registration Form (Below)\n– Medical Release Form & Camp Contract (Below) \n  \n 
URL:https://www.quincystakeyouth.com/event/young-womens-camp/
LOCATION:Buck’s Lake Camp Liahona
CATEGORIES:Stake Young Women
ATTACH;FMTTYPE=image/png:https://www.quincystakeyouth.com/wp-content/uploads/2023/01/Artboard-1-copy-4event-headers.png
END:VEVENT
BEGIN:VEVENT
DTSTART;VALUE=DATE:20260806
DTEND;VALUE=DATE:20260809
DTSTAMP:20260423T151819
CREATED:20260116T225954Z
LAST-MODIFIED:20260127T195326Z
UID:10000105-1785974400-1786233599@www.quincystakeyouth.com
SUMMARY:Young Men AP Camp
DESCRIPTION:Stake Aaronic Priesthood Camp will be held this summer! All young men turning 12-18 in 2026 are invited to attend. AP Camp will be held at  Buck’s Lake Camp Liahona. All Young Men & Leaders who would like to attend need to: -Fill our Registration (Below) -Fill out Medical Release (Below)
URL:https://www.quincystakeyouth.com/event/ap-camp/
LOCATION:Bucks Lake Campground
CATEGORIES:Stake Young Men
ATTACH;FMTTYPE=image/png:https://www.quincystakeyouth.com/wp-content/uploads/2023/01/Artboard-1-copy-2event-headers.png
END:VEVENT
BEGIN:VEVENT
DTSTART;TZID=America/Los_Angeles:20260823T170000
DTEND;TZID=America/Los_Angeles:20260823T190000
DTSTAMP:20260423T151819
CREATED:20260117T022332Z
LAST-MODIFIED:20260117T022414Z
UID:10000115-1787504400-1787511600@www.quincystakeyouth.com
SUMMARY:"The Chosen" Teen Movie Night
DESCRIPTION:Season 4 – Episode 7 Join us for an incredible experience at ‘The Chosen’ Teen Movie Night\, a free community youth event! Immerse yourself in the captivating story of Jesus Christ and embrace the power of faith. This is not just a movie night\, but a chance to connect with other youth in our community and strengthen your spiritual journey together throughout the year. Don’t miss out on the opportunity to be part of this interfaith event. Bring your friends and let’s make 2026 one to be remembered.
URL:https://www.quincystakeyouth.com/event/the-chosen-teen-movie-night-26/
LOCATION:The Church of Jesus Christ of Latter-Day Saints\, 905 Richmond Road\, Susanville\, CA\, 96130
CATEGORIES:Community Youth Event
ATTACH;FMTTYPE=image/png:https://www.quincystakeyouth.com/wp-content/uploads/2024/01/Artboard-6-copythe-chosen-teen-movie-night-susanville-california-christian-watch-party-1.png
END:VEVENT
BEGIN:VEVENT
DTSTART;VALUE=DATE:20260919
DTEND;VALUE=DATE:20260920
DTSTAMP:20260423T151819
CREATED:20260117T005004Z
LAST-MODIFIED:20260117T005004Z
UID:10000107-1789776000-1789862399@www.quincystakeyouth.com
SUMMARY:Stake Temple Trip Youth Baptisms
DESCRIPTION:All wards in the Quincy Stake are invited to attend the Stake Temple Trip for Youth Baptisms. Please signup below to be added to the list for this temple day. Session Times TBA!
URL:https://www.quincystakeyouth.com/event/stake-temple-trip-youth-baptisms-3/
LOCATION:Reno Nevada Temple\, 2000 Beaumont Pkwy\, Reno\, NV\, 89523\, United States
CATEGORIES:Stake Youth,Temple Trip
ATTACH;FMTTYPE=image/png:https://www.quincystakeyouth.com/wp-content/uploads/2024/01/Artboard-2-copyreno-temple.png
END:VEVENT
BEGIN:VEVENT
DTSTART;TZID=America/Los_Angeles:20260927T170000
DTEND;TZID=America/Los_Angeles:20260927T190000
DTSTAMP:20260423T151819
CREATED:20260117T022848Z
LAST-MODIFIED:20260117T022848Z
UID:10000116-1790528400-1790535600@www.quincystakeyouth.com
SUMMARY:"The Chosen" Teen Movie Night
DESCRIPTION:Season 4 – Episode 8 Join us for an incredible experience at ‘The Chosen’ Teen Movie Night\, a free community youth event! Immerse yourself in the captivating story of Jesus Christ and embrace the power of faith. This is not just a movie night\, but a chance to connect with other youth in our community and strengthen your spiritual journey together throughout the year. Don’t miss out on the opportunity to be part of this interfaith event. Bring your friends and let’s make 2026 one to be remembered.
URL:https://www.quincystakeyouth.com/event/the-chosen-teen-movie-night-27/
LOCATION:The Church of Jesus Christ of Latter-Day Saints\, 905 Richmond Road\, Susanville\, CA\, 96130
CATEGORIES:Community Youth Event
ATTACH;FMTTYPE=image/png:https://www.quincystakeyouth.com/wp-content/uploads/2024/01/Artboard-6-copy-5the-chosen-teen-movie-night-susanville-california-christian-watch-party-1.png
END:VEVENT
BEGIN:VEVENT
DTSTART;TZID=America/Los_Angeles:20261011T170000
DTEND;TZID=America/Los_Angeles:20261011T190000
DTSTAMP:20260423T151819
CREATED:20260117T023022Z
LAST-MODIFIED:20260117T023022Z
UID:10000117-1791738000-1791745200@www.quincystakeyouth.com
SUMMARY:"The Chosen" Teen Movie Night
DESCRIPTION:Season 5 – Episode 1 Join us for an incredible experience at ‘The Chosen’ Teen Movie Night\, a free community youth event! Immerse yourself in the captivating story of Jesus Christ and embrace the power of faith. This is not just a movie night\, but a chance to connect with other youth in our community and strengthen your spiritual journey together throughout the year. Don’t miss out on the opportunity to be part of this interfaith event. Bring your friends and let’s make 2026 one to be remembered.
URL:https://www.quincystakeyouth.com/event/the-chosen-teen-movie-night-28/
LOCATION:The Church of Jesus Christ of Latter-Day Saints\, 905 Richmond Road\, Susanville\, CA\, 96130
CATEGORIES:Community Youth Event
ATTACH;FMTTYPE=image/png:https://www.quincystakeyouth.com/wp-content/uploads/2024/01/Artboard-6-copy-3the-chosen-teen-movie-night-susanville-california-christian-watch-party.png
END:VEVENT
BEGIN:VEVENT
DTSTART;VALUE=DATE:20261017
DTEND;VALUE=DATE:20261018
DTSTAMP:20260423T151819
CREATED:20260117T005039Z
LAST-MODIFIED:20260117T005039Z
UID:10000108-1792195200-1792281599@www.quincystakeyouth.com
SUMMARY:Stake Temple Trip Youth Baptisms
DESCRIPTION:All wards in the Quincy Stake are invited to attend the Stake Temple Trip for Youth Baptisms. Please signup below to be added to the list for this temple day. Session Times TBA!
URL:https://www.quincystakeyouth.com/event/stake-temple-trip-youth-baptisms-4/
LOCATION:Reno Nevada Temple\, 2000 Beaumont Pkwy\, Reno\, NV\, 89523\, United States
CATEGORIES:Stake Youth,Temple Trip
ATTACH;FMTTYPE=image/png:https://www.quincystakeyouth.com/wp-content/uploads/2024/01/Artboard-2-copyreno-temple.png
END:VEVENT
BEGIN:VEVENT
DTSTART;VALUE=DATE:20261107
DTEND;VALUE=DATE:20261108
DTSTAMP:20260423T151819
CREATED:20250104T195547Z
LAST-MODIFIED:20260117T011807Z
UID:10000091-1794009600-1794095999@www.quincystakeyouth.com
SUMMARY:Young Women Presidency Leadership Retreat
DESCRIPTION:Save the date and RSVP below… All Young Women Presidents\, Counselors\, Secretaries and Advisors are invited to attend! This retreat will be a one day event (not overnight). More information coming soon!
URL:https://www.quincystakeyouth.com/event/young-women-presidency-leadership-retreat/
CATEGORIES:Young Women Leaders
ATTACH;FMTTYPE=image/png:https://www.quincystakeyouth.com/wp-content/uploads/2025/01/Artboard-10header.png
END:VEVENT
BEGIN:VEVENT
DTSTART;TZID=America/Los_Angeles:20261115T170000
DTEND;TZID=America/Los_Angeles:20261115T190000
DTSTAMP:20260423T151819
CREATED:20260117T023208Z
LAST-MODIFIED:20260117T023208Z
UID:10000118-1794762000-1794769200@www.quincystakeyouth.com
SUMMARY:"The Chosen" Teen Movie Night
DESCRIPTION:Season 5 – Episode 2 Join us for an incredible experience at ‘The Chosen’ Teen Movie Night\, a free community youth event! Immerse yourself in the captivating story of Jesus Christ and embrace the power of faith. This is not just a movie night\, but a chance to connect with other youth in our community and strengthen your spiritual journey together throughout the year. Don’t miss out on the opportunity to be part of this interfaith event. Bring your friends and let’s make 2026 one to be remembered.
URL:https://www.quincystakeyouth.com/event/the-chosen-teen-movie-night-29/
LOCATION:The Church of Jesus Christ of Latter-Day Saints\, 905 Richmond Road\, Susanville\, CA\, 96130
CATEGORIES:Community Youth Event
ATTACH;FMTTYPE=image/png:https://www.quincystakeyouth.com/wp-content/uploads/2024/01/Artboard-6-copy-4the-chosen-teen-movie-night-susanville-california-christian-watch-party.png
END:VEVENT
END:VCALENDAR