BEGIN:VCALENDAR
VERSION:2.0
PRODID:-//Quincy Stake Youth - ECPv6.15.20//NONSGML v1.0//EN
CALSCALE:GREGORIAN
METHOD:PUBLISH
X-WR-CALNAME:Quincy Stake Youth
X-ORIGINAL-URL:https://www.quincystakeyouth.com
X-WR-CALDESC:Events for Quincy Stake Youth
REFRESH-INTERVAL;VALUE=DURATION:PT1H
X-Robots-Tag:noindex
X-PUBLISHED-TTL:PT1H
BEGIN:VTIMEZONE
TZID:America/Los_Angeles
BEGIN:DAYLIGHT
TZOFFSETFROM:-0800
TZOFFSETTO:-0700
TZNAME:PDT
DTSTART:20220313T100000
END:DAYLIGHT
BEGIN:STANDARD
TZOFFSETFROM:-0700
TZOFFSETTO:-0800
TZNAME:PST
DTSTART:20221106T090000
END:STANDARD
BEGIN:DAYLIGHT
TZOFFSETFROM:-0800
TZOFFSETTO:-0700
TZNAME:PDT
DTSTART:20230312T100000
END:DAYLIGHT
BEGIN:STANDARD
TZOFFSETFROM:-0700
TZOFFSETTO:-0800
TZNAME:PST
DTSTART:20231105T090000
END:STANDARD
BEGIN:DAYLIGHT
TZOFFSETFROM:-0800
TZOFFSETTO:-0700
TZNAME:PDT
DTSTART:20240310T100000
END:DAYLIGHT
BEGIN:STANDARD
TZOFFSETFROM:-0700
TZOFFSETTO:-0800
TZNAME:PST
DTSTART:20241103T090000
END:STANDARD
END:VTIMEZONE
BEGIN:VEVENT
DTSTART;VALUE=DATE:20230420
DTEND;VALUE=DATE:20230502
DTSTAMP:20260424T064034
CREATED:20230301T182900Z
LAST-MODIFIED:20230424T035804Z
UID:10000027-1681948800-1682985599@www.quincystakeyouth.com
SUMMARY:FSY Open Session Opportunity
DESCRIPTION:This is NOT our Stake’s year to attend FSY\, we are an “off-cycle” unit… BUT… on April 20th all the youth in the Quincy Stake will have the opportunity to register for any FSY Sessions that still have open space anywhere in the US! This is a new unique opportunity that is being opened up to individual youth this year. \nHow does this work?\nOn April 20th bishoprics may begin approving their youth to attend FSY.  As of now\, Bishoprics cannot approve youth before that date. This may lead to some craziness that day as youth will not be able to register that day until a member of their Bishopric has approved them. Please give your Bishopric the “heads up”.  Once received\, approved youth may register for available bed space in their country of residence. \nFee Information:\nEach family will pay a $75 fee during registration. Then the ward will be billed an additional $75 fee for any youth who register for FSY and do not withdraw their registration. As FSY was not budgeted for off-cycle stakes this year\, the ward may ask the youth to reimburse the fee. This would be done by a youth filling out a physical tithing form and writing “FSY’ into the ‘local’ category. \nTransportation:\nTransportation is not offered to off-cycle units. Your family would be responsible for your transportation to and from the session. \nAn example of how this could look:\nLet’s say you have a cousin or friend that lives in Idaho\, both of you find a session that has 2 openings in Utah and plan to attend that FSY Session and Location together. \nHow to view open sessions and register:\nOn April 20th login with the youth’s church account at this website: FSY Registration
URL:https://www.quincystakeyouth.com/event/fsy-open-session-opportunity/
LOCATION:CA
CATEGORIES:FSY
ATTACH;FMTTYPE=image/png:https://www.quincystakeyouth.com/wp-content/uploads/2023/02/Artboard-8-copy-2header-images.png
END:VEVENT
BEGIN:VEVENT
DTSTART;TZID=America/Los_Angeles:20230415T203000
DTEND;TZID=America/Los_Angeles:20230415T230000
DTSTAMP:20260424T064034
CREATED:20230124T234949Z
LAST-MODIFIED:20230316T040250Z
UID:10000008-1681590600-1681599600@www.quincystakeyouth.com
SUMMARY:City of Stars Regional Formal Dance
DESCRIPTION:Don’t miss this fun dance! Must be 16 by the date of the dance to attend. Dates are encouraged. Formal or Semi-Formal Dress. Please read the “For the Strength of Youth” manual to guide your dress and appearance.
URL:https://www.quincystakeyouth.com/event/regional-youth-dance-spring-formal/
LOCATION:Golconda Church Building\, 1095 Golconda Dr.\, Reno\, NV\, 89509\, United States
CATEGORIES:Dance,Regional Youth
ATTACH;FMTTYPE=image/png:https://www.quincystakeyouth.com/wp-content/uploads/2023/01/Artboard-29stars.png
END:VEVENT
BEGIN:VEVENT
DTSTART;TZID=America/Los_Angeles:20230326T160000
DTEND;TZID=America/Los_Angeles:20230326T190000
DTSTAMP:20260424T064034
CREATED:20230222T003500Z
LAST-MODIFIED:20230305T234310Z
UID:10000023-1679846400-1679857200@www.quincystakeyouth.com
SUMMARY:Stake Youth Fireside & Dinner / Saturday's Warrior
DESCRIPTION:You don’t want to miss this Stake Youth Fireside! Church Dress. \nWho is invited to attend!?\n• All Youth turning 12+\n• Parents or Guardians of Youth\n• At least one Representative from each Ward’s Bishopric\n• At least one Representative from each Wards Young Women’s Presidency \nFireside Schedule of Events:\n• Motivational Speakers\n• Engaging Activities\n• Upcoming Stake Event Information\n• Printed Flyers/Calendars will be available\n• Dinner will be served!
URL:https://www.quincystakeyouth.com/event/stake-youth-fireside/
LOCATION:Susanville Church Building\, 905 Richmond Road\, Susanville\, CA\, 96130
CATEGORIES:Youth Fireside
ATTACH;FMTTYPE=image/png:https://www.quincystakeyouth.com/wp-content/uploads/2023/02/Artboard-2photos-1.png
END:VEVENT
BEGIN:VEVENT
DTSTART;TZID=America/Los_Angeles:20230127T190000
DTEND;TZID=America/Los_Angeles:20230127T200000
DTSTAMP:20260424T064034
CREATED:20230124T054600Z
LAST-MODIFIED:20230125T195028Z
UID:10000004-1674846000-1674849600@www.quincystakeyouth.com
SUMMARY:Truman Brothers Concert
DESCRIPTION:All youth turning 12+ are invited! This is a rare invite… encourage youth to grab a friend & don’t miss the biggest event of the year!
URL:https://www.quincystakeyouth.com/event/truman-brothers-concert-quiet-revolution/
LOCATION:Rock Church Building\, 2955 Rock Blvd.\, Sparks\, NV\, 89431\, United States
CATEGORIES:Regional Youth
ATTACH;FMTTYPE=image/png:https://www.quincystakeyouth.com/wp-content/uploads/2023/01/Artboard-1-copyevent-headers.png
END:VEVENT
END:VCALENDAR