BEGIN:VCALENDAR
VERSION:2.0
PRODID:-//Quincy Stake Youth - ECPv6.15.20//NONSGML v1.0//EN
CALSCALE:GREGORIAN
METHOD:PUBLISH
X-ORIGINAL-URL:https://www.quincystakeyouth.com
X-WR-CALDESC:Events for Quincy Stake Youth
REFRESH-INTERVAL;VALUE=DURATION:PT1H
X-Robots-Tag:noindex
X-PUBLISHED-TTL:PT1H
BEGIN:VTIMEZONE
TZID:America/Los_Angeles
BEGIN:DAYLIGHT
TZOFFSETFROM:-0800
TZOFFSETTO:-0700
TZNAME:PDT
DTSTART:20230312T100000
END:DAYLIGHT
BEGIN:STANDARD
TZOFFSETFROM:-0700
TZOFFSETTO:-0800
TZNAME:PST
DTSTART:20231105T090000
END:STANDARD
BEGIN:DAYLIGHT
TZOFFSETFROM:-0800
TZOFFSETTO:-0700
TZNAME:PDT
DTSTART:20240310T100000
END:DAYLIGHT
BEGIN:STANDARD
TZOFFSETFROM:-0700
TZOFFSETTO:-0800
TZNAME:PST
DTSTART:20241103T090000
END:STANDARD
BEGIN:DAYLIGHT
TZOFFSETFROM:-0800
TZOFFSETTO:-0700
TZNAME:PDT
DTSTART:20250309T100000
END:DAYLIGHT
BEGIN:STANDARD
TZOFFSETFROM:-0700
TZOFFSETTO:-0800
TZNAME:PST
DTSTART:20251102T090000
END:STANDARD
END:VTIMEZONE
BEGIN:VEVENT
DTSTART;VALUE=DATE:20240531
DTEND;VALUE=DATE:20240602
DTSTAMP:20260424T140845
CREATED:20240104T234638Z
LAST-MODIFIED:20240104T234738Z
UID:10000051-1717113600-1717286399@www.quincystakeyouth.com
SUMMARY:Father & Son Campout
DESCRIPTION:Mark your calendars for the 2024 Father & Son Campout! Camp will be held at the Antelope Lake Long Point Campgrounds in group sites A\, B & C. Breakfast will be provided on Saturday morning. You are responsible to bring any other meals for yourself. Feel free to arrive on Friday late afternoon or evening. We are looking forward to it!
URL:https://www.quincystakeyouth.com/event/father-son-campout-2/
LOCATION:Antelope Lake | Long Point Campground\, Group Sites A & B
CATEGORIES:Father & Sons,Stake Young Men
ATTACH;FMTTYPE=image/png:https://www.quincystakeyouth.com/wp-content/uploads/2023/01/Artboard-1-copy-5event-headers.png
END:VEVENT
BEGIN:VEVENT
DTSTART;TZID=America/Los_Angeles:20240602T140000
DTEND;TZID=America/Los_Angeles:20240602T170000
DTSTAMP:20260424T140845
CREATED:20240428T222821Z
LAST-MODIFIED:20240428T223443Z
UID:10000065-1717336800-1717347600@www.quincystakeyouth.com
SUMMARY:Young Women's Camp Meeting & Dinner
DESCRIPTION:All tent moms & young women are invited to attend a Pre-Camp Meeting! Come meet your tent mom and start planning some of the fun things you need to do before camp. This meeting and dinner will be held outside under the pavilion at the Susanville Church Building. Check the times below to see what time you need to arrive! \n2:00-3:00pm | Tent Mom Meeting\n3:00-4:00pm | Young Women meet Tent Moms\n4:00-5:00pm | Potluck Dinner for YW & Tent Mom’s \n5:00 – 7:00pm | “The Chosen” Movie Night for all Youth
URL:https://www.quincystakeyouth.com/event/young-womens-camp-meeting-dinner/
LOCATION:Susanville Church Building\, 905 Richmond Road\, Susanville\, CA\, 96130
CATEGORIES:Stake Young Women
ATTACH;FMTTYPE=image/jpeg:https://www.quincystakeyouth.com/wp-content/uploads/2023/02/AdobeStock_383062937-1-scaled-e1714345399361.jpeg
END:VEVENT
BEGIN:VEVENT
DTSTART;TZID=America/Los_Angeles:20240602T170000
DTEND;TZID=America/Los_Angeles:20240602T190000
DTSTAMP:20260424T140845
CREATED:20240105T090459Z
LAST-MODIFIED:20240428T215818Z
UID:10000058-1717347600-1717354800@www.quincystakeyouth.com
SUMMARY:"The Chosen" Teen Movie Night
DESCRIPTION:Season 1 – Episode 6 \nJoin us for an incredible experience at ‘The Chosen’ Teen Movie Night\, a free community youth event! Immerse yourself in the captivating story of Jesus Christ and embrace the power of faith. This is not just a movie night\, but a chance to connect with other youth in our community and strengthen your spiritual journey together throughout the year. Don’t miss out on the opportunity to be part of this interfaith event. Bring your friends and let’s make 2024 one to be remembered.
URL:https://www.quincystakeyouth.com/event/the-chosen-teen-movie-night-4/
LOCATION:The Church of Jesus Christ of Latter-Day Saints\, 905 Richmond Road\, Susanville\, CA\, 96130
CATEGORIES:Community Youth Event
ATTACH;FMTTYPE=image/png:https://www.quincystakeyouth.com/wp-content/uploads/2024/01/Artboard-6-copy-6the-chosen-teen-movie-night-susanville-california-christian-watch-party.png
END:VEVENT
BEGIN:VEVENT
DTSTART;VALUE=DATE:20240624
DTEND;VALUE=DATE:20240630
DTSTAMP:20260424T140845
CREATED:20240104T232916Z
LAST-MODIFIED:20240601T150527Z
UID:10000049-1719187200-1719705599@www.quincystakeyouth.com
SUMMARY:FSY / For the Strength of Youth Conference
DESCRIPTION:Scroll down for information about FSY Transportation\, Packing List and a list of registered youth attending!
URL:https://www.quincystakeyouth.com/event/fsy-conference/
LOCATION:Sonoma Stake University\, 1801 E Cotati Ave\, Rohnert Park\, CA\, 94928\, United States
CATEGORIES:FSY
ATTACH;FMTTYPE=image/png:https://www.quincystakeyouth.com/wp-content/uploads/2024/01/Artboard-6fsy1.png
END:VEVENT
END:VCALENDAR