BEGIN:VCALENDAR
VERSION:2.0
PRODID:-//Quincy Stake Youth - ECPv6.15.20//NONSGML v1.0//EN
CALSCALE:GREGORIAN
METHOD:PUBLISH
X-ORIGINAL-URL:https://www.quincystakeyouth.com
X-WR-CALDESC:Events for Quincy Stake Youth
REFRESH-INTERVAL;VALUE=DURATION:PT1H
X-Robots-Tag:noindex
X-PUBLISHED-TTL:PT1H
BEGIN:VTIMEZONE
TZID:America/Los_Angeles
BEGIN:DAYLIGHT
TZOFFSETFROM:-0800
TZOFFSETTO:-0700
TZNAME:PDT
DTSTART:20230312T100000
END:DAYLIGHT
BEGIN:STANDARD
TZOFFSETFROM:-0700
TZOFFSETTO:-0800
TZNAME:PST
DTSTART:20231105T090000
END:STANDARD
BEGIN:DAYLIGHT
TZOFFSETFROM:-0800
TZOFFSETTO:-0700
TZNAME:PDT
DTSTART:20240310T100000
END:DAYLIGHT
BEGIN:STANDARD
TZOFFSETFROM:-0700
TZOFFSETTO:-0800
TZNAME:PST
DTSTART:20241103T090000
END:STANDARD
BEGIN:DAYLIGHT
TZOFFSETFROM:-0800
TZOFFSETTO:-0700
TZNAME:PDT
DTSTART:20250309T100000
END:DAYLIGHT
BEGIN:STANDARD
TZOFFSETFROM:-0700
TZOFFSETTO:-0800
TZNAME:PST
DTSTART:20251102T090000
END:STANDARD
END:VTIMEZONE
BEGIN:VEVENT
DTSTART;TZID=America/Los_Angeles:20240907T143000
DTEND;TZID=America/Los_Angeles:20240907T153000
DTSTAMP:20260424T102121
CREATED:20240104T215045Z
LAST-MODIFIED:20240825T213850Z
UID:10000038-1725719400-1725723000@www.quincystakeyouth.com
SUMMARY:Stake Temple Trip Youth Baptisms / 2:30pm Session
DESCRIPTION:All wards in the Quincy Stake are invited to attend the Stake Temple Trip for Youth Baptisms. Please signup below to be added to the list for this session. Only 16 spots are available for youth who would like to be baptized.  Please plan to arrive 30 minutes early to the temple session. \nNote: If we find that there are more youth who would like to attend the Stake Temple Trips than the allowed number\, we will begin to schedule more than one session throughout the rest of the year. \nSignups will remain open for this session until the day of!
URL:https://www.quincystakeyouth.com/event/stake-temple-trip-youth-baptisms-session-time-tba-3/
LOCATION:Reno Nevada Temple\, 2000 Beaumont Pkwy\, Reno\, NV\, 89523\, United States
CATEGORIES:Stake Youth,Temple Trip
ATTACH;FMTTYPE=image/png:https://www.quincystakeyouth.com/wp-content/uploads/2023/02/Artboard-8temple.png
END:VEVENT
BEGIN:VEVENT
DTSTART;TZID=America/Los_Angeles:20240907T193000
DTEND;TZID=America/Los_Angeles:20240907T213000
DTSTAMP:20260424T102121
CREATED:20240104T225803Z
LAST-MODIFIED:20240825T215749Z
UID:10000045-1725737400-1725744600@www.quincystakeyouth.com
SUMMARY:Back to School | Regional Youth Dance
DESCRIPTION:All youth ages 14 and up are invited to join us for a Back to School Night Regional Youth Dance! The dance will be held at 935 Mercedes Dr. in the back parking lot. Represent your school by wearing your school colors! Note: Only park in the front parking lot. \nWe will be doing a Service Project at the back-to-school dance. To participate\, bring school supplies with you to the dance to donate. The following is a list of the most needed school supplies: Tissue\, Clorox Wipes\, Colored Pencils\, Crayons\, Notebooks\, Pencils\, Band-Aids\, and Paper. \n 
URL:https://www.quincystakeyouth.com/event/regional-youth-dance-8/
LOCATION:935 Mercedes Dr. Spanish Springs\, NV 98441\, 935 Mercedes Dr.\, Spanish Springs\, 98441\, United States
CATEGORIES:Dance,Regional Youth
ATTACH;FMTTYPE=image/png:https://www.quincystakeyouth.com/wp-content/uploads/2023/01/Artboard-1-copy-6event-headers.png
END:VEVENT
BEGIN:VEVENT
DTSTART;TZID=America/Los_Angeles:20240915T170000
DTEND;TZID=America/Los_Angeles:20240915T190000
DTSTAMP:20260424T102121
CREATED:20240105T091116Z
LAST-MODIFIED:20240428T220755Z
UID:10000061-1726419600-1726426800@www.quincystakeyouth.com
SUMMARY:"The Chosen" Teen Movie Night
DESCRIPTION:Season 2 – Episode 2 & 3 \nJoin us for an incredible experience at ‘The Chosen’ Teen Movie Night\, a free community youth event! Immerse yourself in the captivating story of Jesus Christ and embrace the power of faith. This is not just a movie night\, but a chance to connect with other youth in our community and strengthen your spiritual journey together throughout the year. Don’t miss out on the opportunity to be part of this interfaith event. Bring your friends and let’s make 2024 one to be remembered.
URL:https://www.quincystakeyouth.com/event/the-chosen-teen-movie-night-7/
LOCATION:The Church of Jesus Christ of Latter-Day Saints\, 905 Richmond Road\, Susanville\, CA\, 96130
CATEGORIES:Community Youth Event
ATTACH;FMTTYPE=image/png:https://www.quincystakeyouth.com/wp-content/uploads/2024/01/Artboard-6-copy-5the-chosen-teen-movie-night-susanville-california-christian-watch-party.png
END:VEVENT
BEGIN:VEVENT
DTSTART;TZID=America/Los_Angeles:20240928T190000
DTEND;TZID=America/Los_Angeles:20240928T210000
DTSTAMP:20260424T102121
CREATED:20240825T224450Z
LAST-MODIFIED:20250810T222333Z
UID:10000066-1727550000-1727557200@www.quincystakeyouth.com
SUMMARY:Outdoor Youth Music Festival!
DESCRIPTION:You are invited to the newest Youth Music Festival experience! Music\, Food\, Activities & More! Bring a blanket or camping chair for this outdoor grass concert held at the Susanville Church Building on a Big Screen at night. All youth turning 12-18 in 2024 are invited to attend. Your friends will love this too\, don’t forget to invite them! Any adult leaders or parents who would like to join are welcome to stay as well. We’d love to have you!\nPRINT FLYER>>\n \n*Get familiar with the songs that will be played at the concert! Click Here to listen.\n \nIf you are interested in helping plan and carry out this event please join us on 8/17 from 2:00-3:00pm in the Susanville Pavilion (All youth interested in helping put on this first annual event are invited to attend this meeting! We would love to hear your ideas for this event. This meeting will be held after Ward Conference Linger Longer and before “The Chosen”)
URL:https://www.quincystakeyouth.com/event/outdoor-youth-music-festival/
LOCATION:905 Richmond Road Susanville\, California\, 905 Richmond Road\, Susanville\, CA\, 96130
CATEGORIES:Stake Youth,Stake Youth Activity
ATTACH;FMTTYPE=image/png:https://www.quincystakeyouth.com/wp-content/uploads/2024/08/Asset-1youth-music-festival-e1735946957988.png
END:VEVENT
BEGIN:VEVENT
DTSTART;VALUE=DATE:20240929
DTEND;VALUE=DATE:20240930
DTSTAMP:20260424T102121
CREATED:20240104T230946Z
LAST-MODIFIED:20240901T161231Z
UID:10000048-1727568000-1727654399@www.quincystakeyouth.com
SUMMARY:CANCELED & POSTPONED / Standards Night
DESCRIPTION:Our traditional Standards Night event will be moved to the beginning of the new year. We will introduce the For the Strength of Youth Guidebook and host an activity or Q&A Session during the Worldwide Broadcast where a new theme will be introduced. This will include all the new youth coming into Young Men’s and Young Women’s in the new year and seemed like a perfect change to make! \nIn place of our traditional Standards night we will be hosting the new outdoor Music Festival ! We are so excited that the church is asking us to host such a fun event this year! YOU CAN FIND THE DETAILS OF THE EVENT BY CLICKING HERE
URL:https://www.quincystakeyouth.com/event/standards-night-dinner/
CATEGORIES:Youth Fireside
ATTACH;FMTTYPE=image/png:https://www.quincystakeyouth.com/wp-content/uploads/2023/01/Artboard-6photos.png
END:VEVENT
END:VCALENDAR