BEGIN:VCALENDAR
VERSION:2.0
PRODID:-//Quincy Stake Youth - ECPv6.15.20//NONSGML v1.0//EN
CALSCALE:GREGORIAN
METHOD:PUBLISH
X-ORIGINAL-URL:https://www.quincystakeyouth.com
X-WR-CALDESC:Events for Quincy Stake Youth
REFRESH-INTERVAL;VALUE=DURATION:PT1H
X-Robots-Tag:noindex
X-PUBLISHED-TTL:PT1H
BEGIN:VTIMEZONE
TZID:America/Los_Angeles
BEGIN:DAYLIGHT
TZOFFSETFROM:-0800
TZOFFSETTO:-0700
TZNAME:PDT
DTSTART:20220313T100000
END:DAYLIGHT
BEGIN:STANDARD
TZOFFSETFROM:-0700
TZOFFSETTO:-0800
TZNAME:PST
DTSTART:20221106T090000
END:STANDARD
BEGIN:DAYLIGHT
TZOFFSETFROM:-0800
TZOFFSETTO:-0700
TZNAME:PDT
DTSTART:20230312T100000
END:DAYLIGHT
BEGIN:STANDARD
TZOFFSETFROM:-0700
TZOFFSETTO:-0800
TZNAME:PST
DTSTART:20231105T090000
END:STANDARD
BEGIN:DAYLIGHT
TZOFFSETFROM:-0800
TZOFFSETTO:-0700
TZNAME:PDT
DTSTART:20240310T100000
END:DAYLIGHT
BEGIN:STANDARD
TZOFFSETFROM:-0700
TZOFFSETTO:-0800
TZNAME:PST
DTSTART:20241103T090000
END:STANDARD
END:VTIMEZONE
BEGIN:VEVENT
DTSTART;VALUE=DATE:20230731
DTEND;VALUE=DATE:20230806
DTSTAMP:20260423T113154
CREATED:20230124T054059Z
LAST-MODIFIED:20240128T074749Z
UID:10000003-1690761600-1691279999@www.quincystakeyouth.com
SUMMARY:Young Women's Camp
DESCRIPTION:Save the date & register now! Encourage all the young women to attend Camp this year! This is a priceless opportunity. Young Women’s Camp will be held at Buck’s Lake and is for all Young Women turning 12 – 18.\n\nTo Register: All Young Women & Adult Leaders attending Camp should \n• Submit Online Camp Registration\n• Submit Online Medical Release\n• Submit Online Camp Contract
URL:https://www.quincystakeyouth.com/event/yw-camp-old/
LOCATION:Buck’s Lake Camp Liahona
CATEGORIES:Stake Young Women
ATTACH;FMTTYPE=image/png:https://www.quincystakeyouth.com/wp-content/uploads/2023/01/Artboard-1-copy-4event-headers.png
END:VEVENT
BEGIN:VEVENT
DTSTART;TZID=America/Los_Angeles:20230715T150000
DTEND;TZID=America/Los_Angeles:20230715T170000
DTSTAMP:20260423T113154
CREATED:20230619T231203Z
LAST-MODIFIED:20230623T165158Z
UID:10000031-1689433200-1689440400@www.quincystakeyouth.com
SUMMARY:CANCELED / Stake YW Pre-Camp Activity
DESCRIPTION:We will no longer have a YW pre-camp activity. Enjoy your summer with family! We will see you at camp!
URL:https://www.quincystakeyouth.com/event/stake-young-women-pre-camp-activity/
LOCATION:Greenville Church Building\, 271 Hideaway Rd.\, Greenville\, CA\, 95947\, United States
CATEGORIES:Stake Youth,Stake Youth Activity
ATTACH;FMTTYPE=image/png:https://www.quincystakeyouth.com/wp-content/uploads/2023/06/Artboard-2HEADER.png
END:VEVENT
END:VCALENDAR