BEGIN:VCALENDAR
VERSION:2.0
PRODID:-//Quincy Stake Youth - ECPv6.15.20//NONSGML v1.0//EN
CALSCALE:GREGORIAN
METHOD:PUBLISH
X-WR-CALNAME:Quincy Stake Youth
X-ORIGINAL-URL:https://www.quincystakeyouth.com
X-WR-CALDESC:Events for Quincy Stake Youth
REFRESH-INTERVAL;VALUE=DURATION:PT1H
X-Robots-Tag:noindex
X-PUBLISHED-TTL:PT1H
BEGIN:VTIMEZONE
TZID:America/Los_Angeles
BEGIN:DAYLIGHT
TZOFFSETFROM:-0800
TZOFFSETTO:-0700
TZNAME:PDT
DTSTART:20230312T100000
END:DAYLIGHT
BEGIN:STANDARD
TZOFFSETFROM:-0700
TZOFFSETTO:-0800
TZNAME:PST
DTSTART:20231105T090000
END:STANDARD
BEGIN:DAYLIGHT
TZOFFSETFROM:-0800
TZOFFSETTO:-0700
TZNAME:PDT
DTSTART:20240310T100000
END:DAYLIGHT
BEGIN:STANDARD
TZOFFSETFROM:-0700
TZOFFSETTO:-0800
TZNAME:PST
DTSTART:20241103T090000
END:STANDARD
BEGIN:DAYLIGHT
TZOFFSETFROM:-0800
TZOFFSETTO:-0700
TZNAME:PDT
DTSTART:20250309T100000
END:DAYLIGHT
BEGIN:STANDARD
TZOFFSETFROM:-0700
TZOFFSETTO:-0800
TZNAME:PST
DTSTART:20251102T090000
END:STANDARD
BEGIN:DAYLIGHT
TZOFFSETFROM:-0800
TZOFFSETTO:-0700
TZNAME:PDT
DTSTART:20260308T100000
END:DAYLIGHT
BEGIN:STANDARD
TZOFFSETFROM:-0700
TZOFFSETTO:-0800
TZNAME:PST
DTSTART:20261101T090000
END:STANDARD
END:VTIMEZONE
BEGIN:VEVENT
DTSTART;VALUE=DATE:20250616
DTEND;VALUE=DATE:20250622
DTSTAMP:20260423T102823
CREATED:20250103T220211Z
LAST-MODIFIED:20250602T043912Z
UID:10000086-1750032000-1750550399@www.quincystakeyouth.com
SUMMARY:FSY / For the Strength of Youth Conference
DESCRIPTION:FSY Session Week: June 16 – 21\, 2025\nLocation: Sonoma State University \n*Below you will find the final list of youth attending FSY & Transportation Information
URL:https://www.quincystakeyouth.com/event/fsy-for-the-strength-of-youth-conference/
CATEGORIES:FSY
ATTACH;FMTTYPE=image/png:https://www.quincystakeyouth.com/wp-content/uploads/2025/01/Artboard-3fsy.png
END:VEVENT
BEGIN:VEVENT
DTSTART;VALUE=DATE:20240624
DTEND;VALUE=DATE:20240630
DTSTAMP:20260423T102823
CREATED:20240104T232916Z
LAST-MODIFIED:20240601T150527Z
UID:10000049-1719187200-1719705599@www.quincystakeyouth.com
SUMMARY:FSY / For the Strength of Youth Conference
DESCRIPTION:Scroll down for information about FSY Transportation\, Packing List and a list of registered youth attending!
URL:https://www.quincystakeyouth.com/event/fsy-conference/
LOCATION:Sonoma Stake University\, 1801 E Cotati Ave\, Rohnert Park\, CA\, 94928\, United States
CATEGORIES:FSY
ATTACH;FMTTYPE=image/png:https://www.quincystakeyouth.com/wp-content/uploads/2024/01/Artboard-6fsy1.png
END:VEVENT
END:VCALENDAR