BEGIN:VCALENDAR
VERSION:2.0
PRODID:-//Quincy Stake Youth - ECPv6.15.20//NONSGML v1.0//EN
CALSCALE:GREGORIAN
METHOD:PUBLISH
X-ORIGINAL-URL:https://www.quincystakeyouth.com
X-WR-CALDESC:Events for Quincy Stake Youth
REFRESH-INTERVAL;VALUE=DURATION:PT1H
X-Robots-Tag:noindex
X-PUBLISHED-TTL:PT1H
BEGIN:VTIMEZONE
TZID:America/Los_Angeles
BEGIN:DAYLIGHT
TZOFFSETFROM:-0800
TZOFFSETTO:-0700
TZNAME:PDT
DTSTART:20220313T100000
END:DAYLIGHT
BEGIN:STANDARD
TZOFFSETFROM:-0700
TZOFFSETTO:-0800
TZNAME:PST
DTSTART:20221106T090000
END:STANDARD
BEGIN:DAYLIGHT
TZOFFSETFROM:-0800
TZOFFSETTO:-0700
TZNAME:PDT
DTSTART:20230312T100000
END:DAYLIGHT
BEGIN:STANDARD
TZOFFSETFROM:-0700
TZOFFSETTO:-0800
TZNAME:PST
DTSTART:20231105T090000
END:STANDARD
BEGIN:DAYLIGHT
TZOFFSETFROM:-0800
TZOFFSETTO:-0700
TZNAME:PDT
DTSTART:20240310T100000
END:DAYLIGHT
BEGIN:STANDARD
TZOFFSETFROM:-0700
TZOFFSETTO:-0800
TZNAME:PST
DTSTART:20241103T090000
END:STANDARD
BEGIN:DAYLIGHT
TZOFFSETFROM:-0800
TZOFFSETTO:-0700
TZNAME:PDT
DTSTART:20250309T100000
END:DAYLIGHT
BEGIN:STANDARD
TZOFFSETFROM:-0700
TZOFFSETTO:-0800
TZNAME:PST
DTSTART:20251102T090000
END:STANDARD
BEGIN:DAYLIGHT
TZOFFSETFROM:-0800
TZOFFSETTO:-0700
TZNAME:PDT
DTSTART:20260308T100000
END:DAYLIGHT
BEGIN:STANDARD
TZOFFSETFROM:-0700
TZOFFSETTO:-0800
TZNAME:PST
DTSTART:20261101T090000
END:STANDARD
END:VTIMEZONE
BEGIN:VEVENT
DTSTART;TZID=America/Los_Angeles:20251011T190000
DTEND;TZID=America/Los_Angeles:20251011T210000
DTSTAMP:20260423T102453
CREATED:20250103T194223Z
LAST-MODIFIED:20251001T210525Z
UID:10000072-1760209200-1760216400@www.quincystakeyouth.com
SUMMARY:Halloween Regional Dance
DESCRIPTION:All youth turning 14+ are invited to a Halloween Regional Dance! October 11th from 7-9pm. Costumes are encouraged but ask yourself\, “Is my costume worthy of a disciple of Christ?”
URL:https://www.quincystakeyouth.com/event/regional-youth-dance-11/
LOCATION:Carson City Stake Center\, 411 N Saliman Road\, Carson City\, NV\, 89701\, United States
CATEGORIES:Dance,Regional Youth
ATTACH;FMTTYPE=image/jpeg:https://www.quincystakeyouth.com/wp-content/uploads/2025/01/AdobeStock_1617818759-scaled.jpeg
END:VEVENT
BEGIN:VEVENT
DTSTART;TZID=America/Los_Angeles:20240504T200000
DTEND;TZID=America/Los_Angeles:20240504T223000
DTSTAMP:20260423T102453
CREATED:20240104T224829Z
LAST-MODIFIED:20240429T163059Z
UID:10000043-1714852800-1714861800@www.quincystakeyouth.com
SUMMARY:Regional Youth Dance
DESCRIPTION:All youth turning 14-18 in 2024 are invited to a Star Wars themed regional dance! Costumes are encouraged… Awards will be given. Don’t miss it!
URL:https://www.quincystakeyouth.com/event/regional-youth-dance-6/
LOCATION:Carson City Stake Center\, 411 N Saliman Road\, Carson City\, NV\, 89701\, United States
CATEGORIES:Dance,Regional Youth
ATTACH;FMTTYPE=image/png:https://www.quincystakeyouth.com/wp-content/uploads/2024/01/Artboard-2photos.png
END:VEVENT
BEGIN:VEVENT
DTSTART;TZID=America/Los_Angeles:20230506T200000
DTEND;TZID=America/Los_Angeles:20230506T223000
DTSTAMP:20260423T102453
CREATED:20230125T001221Z
LAST-MODIFIED:20230501T042551Z
UID:10000009-1683403200-1683412200@www.quincystakeyouth.com
SUMMARY:Regional Youth Dance / Around the World
DESCRIPTION:All youth turning 14+ are invited to a Regional Dance! Casual Dress. Dance cards are NOT required! Bring your friends… invite all! \n*NOTE: The “dance card app” says that this dance is on May 20th… that is incorrect\, the date has not been changed in the app.
URL:https://www.quincystakeyouth.com/event/regional-youth-dance-2/
LOCATION:Carson City Stake Center\, 411 N Saliman Road\, Carson City\, NV\, 89701\, United States
CATEGORIES:Dance,Regional Youth
ATTACH;FMTTYPE=image/png:https://www.quincystakeyouth.com/wp-content/uploads/2023/01/Artboard-1-copy-8event-headers-1.png
END:VEVENT
END:VCALENDAR