BEGIN:VCALENDAR
VERSION:2.0
PRODID:-//Quincy Stake Youth - ECPv6.15.20//NONSGML v1.0//EN
CALSCALE:GREGORIAN
METHOD:PUBLISH
X-ORIGINAL-URL:https://www.quincystakeyouth.com
X-WR-CALDESC:Events for Quincy Stake Youth
REFRESH-INTERVAL;VALUE=DURATION:PT1H
X-Robots-Tag:noindex
X-PUBLISHED-TTL:PT1H
BEGIN:VTIMEZONE
TZID:America/Los_Angeles
BEGIN:DAYLIGHT
TZOFFSETFROM:-0800
TZOFFSETTO:-0700
TZNAME:PDT
DTSTART:20220313T100000
END:DAYLIGHT
BEGIN:STANDARD
TZOFFSETFROM:-0700
TZOFFSETTO:-0800
TZNAME:PST
DTSTART:20221106T090000
END:STANDARD
BEGIN:DAYLIGHT
TZOFFSETFROM:-0800
TZOFFSETTO:-0700
TZNAME:PDT
DTSTART:20230312T100000
END:DAYLIGHT
BEGIN:STANDARD
TZOFFSETFROM:-0700
TZOFFSETTO:-0800
TZNAME:PST
DTSTART:20231105T090000
END:STANDARD
BEGIN:DAYLIGHT
TZOFFSETFROM:-0800
TZOFFSETTO:-0700
TZNAME:PDT
DTSTART:20240310T100000
END:DAYLIGHT
BEGIN:STANDARD
TZOFFSETFROM:-0700
TZOFFSETTO:-0800
TZNAME:PST
DTSTART:20241103T090000
END:STANDARD
BEGIN:DAYLIGHT
TZOFFSETFROM:-0800
TZOFFSETTO:-0700
TZNAME:PDT
DTSTART:20250309T100000
END:DAYLIGHT
BEGIN:STANDARD
TZOFFSETFROM:-0700
TZOFFSETTO:-0800
TZNAME:PST
DTSTART:20251102T090000
END:STANDARD
BEGIN:DAYLIGHT
TZOFFSETFROM:-0800
TZOFFSETTO:-0700
TZNAME:PDT
DTSTART:20260308T100000
END:DAYLIGHT
BEGIN:STANDARD
TZOFFSETFROM:-0700
TZOFFSETTO:-0800
TZNAME:PST
DTSTART:20261101T090000
END:STANDARD
BEGIN:DAYLIGHT
TZOFFSETFROM:-0800
TZOFFSETTO:-0700
TZNAME:PDT
DTSTART:20270314T100000
END:DAYLIGHT
BEGIN:STANDARD
TZOFFSETFROM:-0700
TZOFFSETTO:-0800
TZNAME:PST
DTSTART:20271107T090000
END:STANDARD
END:VTIMEZONE
BEGIN:VEVENT
DTSTART;TZID=America/Los_Angeles:20260418T200000
DTEND;TZID=America/Los_Angeles:20260418T223000
DTSTAMP:20260423T102647
CREATED:20260406T032514Z
LAST-MODIFIED:20260406T033342Z
UID:10000120-1776542400-1776551400@www.quincystakeyouth.com
SUMMARY:Olympic Night Regional Dance (Date changed from 17th to 18th)
DESCRIPTION:Go for the gold! All youth turning 14+ in 2026 are invited to a Regional Dance. Feel free to represent your Olympic team or sport! Activities and prizes… come prepared to play!
URL:https://www.quincystakeyouth.com/event/olympic-night-regional-dance/
LOCATION:Golconda Church Building\, 1095 Golconda Dr.\, Reno\, NV\, 89509\, United States
CATEGORIES:Dance,Regional Youth
ATTACH;FMTTYPE=image/jpeg:https://www.quincystakeyouth.com/wp-content/uploads/2026/04/IMG_20260405_201204-1-e1775445885854.jpg
END:VEVENT
BEGIN:VEVENT
DTSTART;TZID=America/Los_Angeles:20260208T133000
DTEND;TZID=America/Los_Angeles:20260208T143000
DTSTAMP:20260423T102647
CREATED:20260116T224110Z
LAST-MODIFIED:20260116T225619Z
UID:10000104-1770557400-1770561000@www.quincystakeyouth.com
SUMMARY:Regional Youth Fireside with John Bytheway
DESCRIPTION:Don’t miss the amazing opportunity!\nNOTE: This event will be held the same day as Quincy Stake Conference in Quincy. Stake Conference will end early at 11:30 so that those who would like to attend this Fireside will be able to arrive on time. \nWho is invited?\nAll Youth 11+ and Youth Leaders \nChurch Dress is Requested
URL:https://www.quincystakeyouth.com/event/regional-youth-fireside-with-john-bytheway/
LOCATION:Golconda Church Building\, 1095 Golconda Dr.\, Reno\, NV\, 89509\, United States
CATEGORIES:Stake Youth,Youth Fireside
ATTACH;FMTTYPE=image/png:https://www.quincystakeyouth.com/wp-content/uploads/2026/01/Artboard-2YW-Camp-flyer-1.png
END:VEVENT
BEGIN:VEVENT
DTSTART;VALUE=DATE:20250920
DTEND;VALUE=DATE:20250921
DTSTAMP:20260423T102647
CREATED:20250904T220542Z
LAST-MODIFIED:20250904T221921Z
UID:10000093-1758326400-1758412799@www.quincystakeyouth.com
SUMMARY:Special Youth & Leader Training Meeting
DESCRIPTION:Below is an invitation that our Stake has received to attend a Special Meeting held in Reno for Youth and Youth Leaders. We encourage and thank you for making efforts to attend this meeting if your callings are listing in the different session times below. ALL of the youth and leaders from our stake are invited to the last 7:00 Session and we encourage each ward to help get the youth there for this experience. Please reach out if you have any questions about this important event. 
URL:https://www.quincystakeyouth.com/event/special-youth-leader-training-meeting/
LOCATION:Golconda Church Building\, 1095 Golconda Dr.\, Reno\, NV\, 89509\, United States
CATEGORIES:Stake Youth,Youth Fireside
ATTACH;FMTTYPE=image/png:https://www.quincystakeyouth.com/wp-content/uploads/2023/01/Artboard-2.png
END:VEVENT
BEGIN:VEVENT
DTSTART;TZID=America/Los_Angeles:20241019T193000
DTEND;TZID=America/Los_Angeles:20241019T220000
DTSTAMP:20260423T102647
CREATED:20240104T225317Z
LAST-MODIFIED:20240916T184915Z
UID:10000044-1729366200-1729375200@www.quincystakeyouth.com
SUMMARY:Regional Youth Dance / Plaid-a-Palooza
DESCRIPTION:All youth turning 14+ are invited to a Plaid-a-Palooza Regional Fall Dance! Wear your best plaid and come ready to enjoy a pancake bar and hot chocolate. Bring your friends and come have a good time!
URL:https://www.quincystakeyouth.com/event/regional-youth-dance-7/
LOCATION:Golconda Church Building\, 1095 Golconda Dr.\, Reno\, NV\, 89509\, United States
CATEGORIES:Dance,Regional Youth
ATTACH;FMTTYPE=image/png:https://www.quincystakeyouth.com/wp-content/uploads/2024/01/Artboard-2fall.png
END:VEVENT
BEGIN:VEVENT
DTSTART;TZID=America/Los_Angeles:20231021T193000
DTEND;TZID=America/Los_Angeles:20231021T223000
DTSTAMP:20260423T102647
CREATED:20230125T005547Z
LAST-MODIFIED:20231007T054733Z
UID:10000011-1697916600-1697927400@www.quincystakeyouth.com
SUMMARY:Harvest Hype Regional Dance
DESCRIPTION:All youth turning 14+ are invited to a Regional Dance. Casual Attire. Flannel Encouraged! Hope to see you there!
URL:https://www.quincystakeyouth.com/event/harvest-hype/
LOCATION:Golconda Church Building\, 1095 Golconda Dr.\, Reno\, NV\, 89509\, United States
CATEGORIES:Dance,Regional Youth
ATTACH;FMTTYPE=image/png:https://www.quincystakeyouth.com/wp-content/uploads/2023/01/Artboard-1photos-1.png
END:VEVENT
BEGIN:VEVENT
DTSTART;TZID=America/Los_Angeles:20230415T203000
DTEND;TZID=America/Los_Angeles:20230415T230000
DTSTAMP:20260423T102647
CREATED:20230124T234949Z
LAST-MODIFIED:20230316T040250Z
UID:10000008-1681590600-1681599600@www.quincystakeyouth.com
SUMMARY:City of Stars Regional Formal Dance
DESCRIPTION:Don’t miss this fun dance! Must be 16 by the date of the dance to attend. Dates are encouraged. Formal or Semi-Formal Dress. Please read the “For the Strength of Youth” manual to guide your dress and appearance.
URL:https://www.quincystakeyouth.com/event/regional-youth-dance-spring-formal/
LOCATION:Golconda Church Building\, 1095 Golconda Dr.\, Reno\, NV\, 89509\, United States
CATEGORIES:Dance,Regional Youth
ATTACH;FMTTYPE=image/png:https://www.quincystakeyouth.com/wp-content/uploads/2023/01/Artboard-29stars.png
END:VEVENT
END:VCALENDAR