BEGIN:VCALENDAR
VERSION:2.0
PRODID:-//Quincy Stake Youth - ECPv6.15.20//NONSGML v1.0//EN
CALSCALE:GREGORIAN
METHOD:PUBLISH
X-WR-CALNAME:Quincy Stake Youth
X-ORIGINAL-URL:https://www.quincystakeyouth.com
X-WR-CALDESC:Events for Quincy Stake Youth
REFRESH-INTERVAL;VALUE=DURATION:PT1H
X-Robots-Tag:noindex
X-PUBLISHED-TTL:PT1H
BEGIN:VTIMEZONE
TZID:America/Los_Angeles
BEGIN:DAYLIGHT
TZOFFSETFROM:-0800
TZOFFSETTO:-0700
TZNAME:PDT
DTSTART:20220313T100000
END:DAYLIGHT
BEGIN:STANDARD
TZOFFSETFROM:-0700
TZOFFSETTO:-0800
TZNAME:PST
DTSTART:20221106T090000
END:STANDARD
BEGIN:DAYLIGHT
TZOFFSETFROM:-0800
TZOFFSETTO:-0700
TZNAME:PDT
DTSTART:20230312T100000
END:DAYLIGHT
BEGIN:STANDARD
TZOFFSETFROM:-0700
TZOFFSETTO:-0800
TZNAME:PST
DTSTART:20231105T090000
END:STANDARD
BEGIN:DAYLIGHT
TZOFFSETFROM:-0800
TZOFFSETTO:-0700
TZNAME:PDT
DTSTART:20240310T100000
END:DAYLIGHT
BEGIN:STANDARD
TZOFFSETFROM:-0700
TZOFFSETTO:-0800
TZNAME:PST
DTSTART:20241103T090000
END:STANDARD
END:VTIMEZONE
BEGIN:VEVENT
DTSTART;TZID=America/Los_Angeles:20230819T090000
DTEND;TZID=America/Los_Angeles:20230819T150000
DTSTAMP:20260423T114240
CREATED:20230817T182555Z
LAST-MODIFIED:20230817T185249Z
UID:10000033-1692435600-1692457200@www.quincystakeyouth.com
SUMMARY:Feather River Temple / Open House Youth Event
DESCRIPTION:Enjoy an opportunity for youth to tour before the public at our “Youth First Look Temple Tour”! Come participate in a temple tour\, lunch\, workshops\, and a devotional! All youth turning 12 -18 are invited to attend. \n**DRESS FOR THE DAY IS SLACKS OR DRESSES FOR YOUNG WOMEN & SHIRTS & TIES FOR THE YOUNG MEN** \nEVENT SCHEDULE:\n• 9:00am – Youth arrive at the new Yuba City Stake Center (1470 Butte House Rd)\n• 9:20-10:10am – Feather River Temple tours for the youth\n• 10:20-11:35am – Workshops and games for the youth at the Sutter County Veteran’s Hall (youth will walk to the Veteran’s Hall)\n• 11:50-12:35pm – Youth Devotional at the Veteran’s Hall\n• 12:45-1:30pm – Lunch\, workshops and games for the youth at the Veteran’s Hall\n• 1:30-2:30pm – Temple tours available for families of youth and adult leaders
URL:https://www.quincystakeyouth.com/event/feather-river-youth-temple-tour/
LOCATION:Yuba City Stake Center\, 1470 Butte House Road\, Yuba City\, CA\, 95993\, United States
CATEGORIES:Stake Youth,Stake Youth Activity
ATTACH;FMTTYPE=image/jpeg:https://www.quincystakeyouth.com/wp-content/uploads/2023/08/e119971cadd1d504c6eb2b00d572a04e75209905-scaled.jpeg
END:VEVENT
END:VCALENDAR